Workbook

Sheet Immobili
A1: ID immobile | B1: Indirizzo | C1: Città | D1: Provincia | E1: Proprietario | F1: Tipologia contratto | G1: Canone mensile (€) | H1: Mesi locati 2026 | I1: Canone annuo lordo (€) | J1: Spese condominiali annue (€) | K1: Manutenzioni annue (€) | L1: Assicurazione annua (€) | M1: IMU annua (€) | N1: TARI annua (€) | O1: Altre spese deducibili (€) | P1: Regime fiscale | Q1: Aliquota fiscale (%) | R1: Imposta stimata (€) | S1: Reddito operativo netto (€) | T1: Valore acquisto (€) | U1: Rendita lorda (%) | V1: Rendita netta (%) | W1: Stato locazione | X1: Note
A2: IMM-001 | B2: Via Roma 12 | C2: Milano | D2: MI | E2: Marco Rossi | F2: 4+4 | G2: 1850 | H2: 12 | I2: =IF(OR($A2="",G2="",H2=""),"",G2*H2) | J2: 3000 | K2: 900 | L2: 420 | M2: 1700 | N2: 520 | O2: 350 | P2: Cedolare secca 21% | Q2: =IF($A2="","",IFERROR(VLOOKUP(P2,'Impostazioni'!$A$2:$B$4,2,FALSE),"")) | R2: =IF(OR($A2="",I2="",Q2=""),"",I2*Q2) | S2: =IF($A2="","",I2-SUM(J2:O2)-R2) | T2: 420000 | U2: =IF(OR($A2="",T2="",T2=0),"",IFERROR(I2/T2,0)) | V2: =IF(OR($A2="",T2="",T2=0),"",IFERROR(S2/T2,0)) | W2: =IF($A2="","",IF(H2=12,"Locato tutto l'anno",IF(H2=0,"Sfitto","Locazione parziale"))) | X2: Appartamento signorile
A3: IMM-002 | B3: Corso Italia 45 | C3: Roma | D3: RM | E3: Giulia Bianchi | F3: 3+2 canone concordato | G3: 1650 | H3: 12 | I3: =IF(OR($A3="",G3="",H3=""),"",G3*H3) | J3: 2700 | K3: 750 | L3: 390 | M3: 1500 | N3: 460 | O3: 300 | P3: Cedolare secca 10% | Q3: =IF($A3="","",IFERROR(VLOOKUP(P3,'Impostazioni'!$A$2:$B$4,2,FALSE),"")) | R3: =IF(OR($A3="",I3="",Q3=""),"",I3*Q3) | S3: =IF($A3="","",I3-SUM(J3:O3)-R3) | T3: 330000 | U3: =IF(OR($A3="",T3="",T3=0),"",IFERROR(I3/T3,0)) | V3: =IF(OR($A3="",T3="",T3=0),"",IFERROR(S3/T3,0)) | W3: =IF($A3="","",IF(H3=12,"Locato tutto l'anno",IF(H3=0,"Sfitto","Locazione parziale"))) | X3: Bilocale zona centrale
A4: IMM-003 | B4: Via Garibaldi 8 | C4: Torino | D4: TO | E4: Luca Ferrari | F4: 3+2 canone concordato | G4: 1200 | H4: 11 | I4: =IF(OR($A4="",G4="",H4=""),"",G4*H4) | J4: 2300 | K4: 700 | L4: 350 | M4: 1050 | N4: 380 | O4: 240 | P4: Cedolare secca 10% | Q4: =IF($A4="","",IFERROR(VLOOKUP(P4,'Impostazioni'!$A$2:$B$4,2,FALSE),"")) | R4: =IF(OR($A4="",I4="",Q4=""),"",I4*Q4) | S4: =IF($A4="","",I4-SUM(J4:O4)-R4) | T4: 220000 | U4: =IF(OR($A4="",T4="",T4=0),"",IFERROR(I4/T4,0)) | V4: =IF(OR($A4="",T4="",T4=0),"",IFERROR(S4/T4,0)) | W4: =IF($A4="","",IF(H4=12,"Locato tutto l'anno",IF(H4=0,"Sfitto","Locazione parziale"))) | X4: Locazione iniziata a febbraio
A5: IMM-004 | B5: Via Dante 21 | C5: Bologna | D5: BO | E5: Anna Esposito | F5: 4+4 | G5: 1100 | H5: 12 | I5: =IF(OR($A5="",G5="",H5=""),"",G5*H5) | J5: 1800 | K5: 650 | L5: 330 | M5: 950 | N5: 360 | O5: 250 | P5: Regime ordinario | Q5: =IF($A5="","",IFERROR(VLOOKUP(P5,'Impostazioni'!$A$2:$B$4,2,FALSE),"")) | R5: =IF(OR($A5="",I5="",Q5=""),"",I5*Q5) | S5: =IF($A5="","",I5-SUM(J5:O5)-R5) | T5: 195000 | U5: =IF(OR($A5="",T5="",T5=0),"",IFERROR(I5/T5,0)) | V5: =IF(OR($A5="",T5="",T5=0),"",IFERROR(S5/T5,0)) | W5: =IF($A5="","",IF(H5=12,"Locato tutto l'anno",IF(H5=0,"Sfitto","Locazione parziale"))) | X5: Trilocale vicino al centro
A6: IMM-005 | B6: Via Manzoni 6 | C6: Napoli | D6: NA | E6: Francesca Romano | F6: Transitorio | G6: 950 | H6: 10 | I6: =IF(OR($A6="",G6="",H6=""),"",G6*H6) | J6: 1500 | K6: 1100 | L6: 300 | M6: 820 | N6: 310 | O6: 180 | P6: Cedolare secca 21% | Q6: =IF($A6="","",IFERROR(VLOOKUP(P6,'Impostazioni'!$A$2:$B$4,2,FALSE),"")) | R6: =IF(OR($A6="",I6="",Q6=""),"",I6*Q6) | S6: =IF($A6="","",I6-SUM(J6:O6)-R6) | T6: 145000 | U6: =IF(OR($A6="",T6="",T6=0),"",IFERROR(I6/T6,0)) | V6: =IF(OR($A6="",T6="",T6=0),"",IFERROR(S6/T6,0)) | W6: =IF($A6="","",IF(H6=12,"Locato tutto l'anno",IF(H6=0,"Sfitto","Locazione parziale"))) | X6: Locazione temporanea
A7: IMM-006 | B7: Borgo Pinti 18 | C7: Firenze | D7: FI | E7: Giuseppe Conti | F7: 4+4 | G7: 1450 | H7: 12 | I7: =IF(OR($A7="",G7="",H7=""),"",G7*H7) | J7: 2600 | K7: 800 | L7: 400 | M7: 1200 | N7: 420 | O7: 300 | P7: Cedolare secca 21% | Q7: =IF($A7="","",IFERROR(VLOOKUP(P7,'Impostazioni'!$A$2:$B$4,2,FALSE),"")) | R7: =IF(OR($A7="",I7="",Q7=""),"",I7*Q7) | S7: =IF($A7="","",I7-SUM(J7:O7)-R7) | T7: 290000 | U7: =IF(OR($A7="",T7="",T7=0),"",IFERROR(I7/T7,0)) | V7: =IF(OR($A7="",T7="",T7=0),"",IFERROR(S7/T7,0)) | W7: =IF($A7="","",IF(H7=12,"Locato tutto l'anno",IF(H7=0,"Sfitto","Locazione parziale"))) | X7: Quadrilocale arredato
A8: IMM-007 | B8: Via Mazzini 34 | C8: Verona | D8: VR | E8: Sara Greco | F8: 3+2 canone concordato | G8: 850 | H8: 12 | I8: =IF(OR($A8="",G8="",H8=""),"",G8*H8) | J8: 1300 | K8: 500 | L8: 280 | M8: 760 | N8: 290 | O8: 160 | P8: Cedolare secca 10% | Q8: =IF($A8="","",IFERROR(VLOOKUP(P8,'Impostazioni'!$A$2:$B$4,2,FALSE),"")) | R8: =IF(OR($A8="",I8="",Q8=""),"",I8*Q8) | S8: =IF($A8="","",I8-SUM(J8:O8)-R8) | T8: 175000 | U8: =IF(OR($A8="",T8="",T8=0),"",IFERROR(I8/T8,0)) | V8: =IF(OR($A8="",T8="",T8=0),"",IFERROR(S8/T8,0)) | W8: =IF($A8="","",IF(H8=12,"Locato tutto l'anno",IF(H8=0,"Sfitto","Locazione parziale"))) | X8: Monolocale in zona universitaria
A9: IMM-008 | B9: Via XX Settembre 19 | C9: Genova | D9: GE | E9: Matteo Ricci | F9: Transitorio | G9: 650 | H9: 11 | I9: =IF(OR($A9="",G9="",H9=""),"",G9*H9) | J9: 1150 | K9: 450 | L9: 250 | M9: 690 | N9: 270 | O9: 140 | P9: Regime ordinario | Q9: =IF($A9="","",IFERROR(VLOOKUP(P9,'Impostazioni'!$A$2:$B$4,2,FALSE),"")) | R9: =IF(OR($A9="",I9="",Q9=""),"",I9*Q9) | S9: =IF($A9="","",I9-SUM(J9:O9)-R9) | T9: 150000 | U9: =IF(OR($A9="",T9="",T9=0),"",IFERROR(I9/T9,0)) | V9: =IF(OR($A9="",T9="",T9=0),"",IFERROR(S9/T9,0)) | W9: =IF($A9="","",IF(H9=12,"Locato tutto l'anno",IF(H9=0,"Sfitto","Locazione parziale"))) | X9: Contratto in rinnovo
I10: =IF(OR($A10="",G10="",H10=""),"",G10*H10) | Q10: =IF($A10="","",IFERROR(VLOOKUP(P10,'Impostazioni'!$A$2:$B$4,2,FALSE),"")) | R10: =IF(OR($A10="",I10="",Q10=""),"",I10*Q10) | S10: =IF($A10="","",I10-SUM(J10:O10)-R10) | U10: =IF(OR($A10="",T10="",T10=0),"",IFERROR(I10/T10,0)) | V10: =IF(OR($A10="",T10="",T10=0),"",IFERROR(S10/T10,0)) | W10: =IF($A10="","",IF(H10=12,"Locato tutto l'anno",IF(H10=0,"Sfitto","Locazione parziale")))
I11: =IF(OR($A11="",G11="",H11=""),"",G11*H11) | Q11: =IF($A11="","",IFERROR(VLOOKUP(P11,'Impostazioni'!$A$2:$B$4,2,FALSE),"")) | R11: =IF(OR($A11="",I11="",Q11=""),"",I11*Q11) | S11: =IF($A11="","",I11-SUM(J11:O11)-R11) | U11: =IF(OR($A11="",T11="",T11=0),"",IFERROR(I11/T11,0)) | V11: =IF(OR($A11="",T11="",T11=0),"",IFERROR(S11/T11,0)) | W11: =IF($A11="","",IF(H11=12,"Locato tutto l'anno",IF(H11=0,"Sfitto","Locazione parziale")))
I12: =IF(OR($A12="",G12="",H12=""),"",G12*H12) | Q12: =IF($A12="","",IFERROR(VLOOKUP(P12,'Impostazioni'!$A$2:$B$4,2,FALSE),"")) | R12: =IF(OR($A12="",I12="",Q12=""),"",I12*Q12) | S12: =IF($A12="","",I12-SUM(J12:O12)-R12) | U12: =IF(OR($A12="",T12="",T12=0),"",IFERROR(I12/T12,0)) | V12: =IF(OR($A12="",T12="",T12=0),"",IFERROR(S12/T12,0)) | W12: =IF($A12="","",IF(H12=12,"Locato tutto l'anno",IF(H12=0,"Sfitto","Locazione parziale")))
I13: =IF(OR($A13="",G13="",H13=""),"",G13*H13) | Q13: =IF($A13="","",IFERROR(VLOOKUP(P13,'Impostazioni'!$A$2:$B$4,2,FALSE),"")) | R13: =IF(OR($A13="",I13="",Q13=""),"",I13*Q13) | S13: =IF($A13="","",I13-SUM(J13:O13)-R13) | U13: =IF(OR($A13="",T13="",T13=0),"",IFERROR(I13/T13,0)) | V13: =IF(OR($A13="",T13="",T13=0),"",IFERROR(S13/T13,0)) | W13: =IF($A13="","",IF(H13=12,"Locato tutto l'anno",IF(H13=0,"Sfitto","Locazione parziale")))
I14: =IF(OR($A14="",G14="",H14=""),"",G14*H14) | Q14: =IF($A14="","",IFERROR(VLOOKUP(P14,'Impostazioni'!$A$2:$B$4,2,FALSE),"")) | R14: =IF(OR($A14="",I14="",Q14=""),"",I14*Q14) | S14: =IF($A14="","",I14-SUM(J14:O14)-R14) | U14: =IF(OR($A14="",T14="",T14=0),"",IFERROR(I14/T14,0)) | V14: =IF(OR($A14="",T14="",T14=0),"",IFERROR(S14/T14,0)) | W14: =IF($A14="","",IF(H14=12,"Locato tutto l'anno",IF(H14=0,"Sfitto","Locazione parziale")))
I15: =IF(OR($A15="",G15="",H15=""),"",G15*H15) | Q15: =IF($A15="","",IFERROR(VLOOKUP(P15,'Impostazioni'!$A$2:$B$4,2,FALSE),"")) | R15: =IF(OR($A15="",I15="",Q15=""),"",I15*Q15) | S15: =IF($A15="","",I15-SUM(J15:O15)-R15) | U15: =IF(OR($A15="",T15="",T15=0),"",IFERROR(I15/T15,0)) | V15: =IF(OR($A15="",T15="",T15=0),"",IFERROR(S15/T15,0)) | W15: =IF($A15="","",IF(H15=12,"Locato tutto l'anno",IF(H15=0,"Sfitto","Locazione parziale")))
I16: =IF(OR($A16="",G16="",H16=""),"",G16*H16) | Q16: =IF($A16="","",IFERROR(VLOOKUP(P16,'Impostazioni'!$A$2:$B$4,2,FALSE),"")) | R16: =IF(OR($A16="",I16="",Q16=""),"",I16*Q16) | S16: =IF($A16="","",I16-SUM(J16:O16)-R16) | U16: =IF(OR($A16="",T16="",T16=0),"",IFERROR(I16/T16,0)) | V16: =IF(OR($A16="",T16="",T16=0),"",IFERROR(S16/T16,0)) | W16: =IF($A16="","",IF(H16=12,"Locato tutto l'anno",IF(H16=0,"Sfitto","Locazione parziale")))
I17: =IF(OR($A17="",G17="",H17=""),"",G17*H17) | Q17: =IF($A17="","",IFERROR(VLOOKUP(P17,'Impostazioni'!$A$2:$B$4,2,FALSE),"")) | R17: =IF(OR($A17="",I17="",Q17=""),"",I17*Q17) | S17: =IF($A17="","",I17-SUM(J17:O17)-R17) | U17: =IF(OR($A17="",T17="",T17=0),"",IFERROR(I17/T17,0)) | V17: =IF(OR($A17="",T17="",T17=0),"",IFERROR(S17/T17,0)) | W17: =IF($A17="","",IF(H17=12,"Locato tutto l'anno",IF(H17=0,"Sfitto","Locazione parziale")))
I18: =IF(OR($A18="",G18="",H18=""),"",G18*H18) | Q18: =IF($A18="","",IFERROR(VLOOKUP(P18,'Impostazioni'!$A$2:$B$4,2,FALSE),"")) | R18: =IF(OR($A18="",I18="",Q18=""),"",I18*Q18) | S18: =IF($A18="","",I18-SUM(J18:O18)-R18) | U18: =IF(OR($A18="",T18="",T18=0),"",IFERROR(I18/T18,0)) | V18: =IF(OR($A18="",T18="",T18=0),"",IFERROR(S18/T18,0)) | W18: =IF($A18="","",IF(H18=12,"Locato tutto l'anno",IF(H18=0,"Sfitto","Locazione parziale")))
I19: =IF(OR($A19="",G19="",H19=""),"",G19*H19) | Q19: =IF($A19="","",IFERROR(VLOOKUP(P19,'Impostazioni'!$A$2:$B$4,2,FALSE),"")) | R19: =IF(OR($A19="",I19="",Q19=""),"",I19*Q19) | S19: =IF($A19="","",I19-SUM(J19:O19)-R19) | U19: =IF(OR($A19="",T19="",T19=0),"",IFERROR(I19/T19,0)) | V19: =IF(OR($A19="",T19="",T19=0),"",IFERROR(S19/T19,0)) | W19: =IF($A19="","",IF(H19=12,"Locato tutto l'anno",IF(H19=0,"Sfitto","Locazione parziale")))
I20: =IF(OR($A20="",G20="",H20=""),"",G20*H20) | Q20: =IF($A20="","",IFERROR(VLOOKUP(P20,'Impostazioni'!$A$2:$B$4,2,FALSE),"")) | R20: =IF(OR($A20="",I20="",Q20=""),"",I20*Q20) | S20: =IF($A20="","",I20-SUM(J20:O20)-R20) | U20: =IF(OR($A20="",T20="",T20=0),"",IFERROR(I20/T20,0)) | V20: =IF(OR($A20="",T20="",T20=0),"",IFERROR(S20/T20,0)) | W20: =IF($A20="","",IF(H20=12,"Locato tutto l'anno",IF(H20=0,"Sfitto","Locazione parziale")))
I21: =IF(OR($A21="",G21="",H21=""),"",G21*H21) | Q21: =IF($A21="","",IFERROR(VLOOKUP(P21,'Impostazioni'!$A$2:$B$4,2,FALSE),"")) | R21: =IF(OR($A21="",I21="",Q21=""),"",I21*Q21) | S21: =IF($A21="","",I21-SUM(J21:O21)-R21) | U21: =IF(OR($A21="",T21="",T21=0),"",IFERROR(I21/T21,0)) | V21: =IF(OR($A21="",T21="",T21=0),"",IFERROR(S21/T21,0)) | W21: =IF($A21="","",IF(H21=12,"Locato tutto l'anno",IF(H21=0,"Sfitto","Locazione parziale")))
... I101: =IF(OR($A101="",G101="",H101=""),"",G101*H101) | Q101: =IF($A101="","",IFERROR(VLOOKUP(P101,'Impostazioni'!$A$2:$B$4,2,FALSE),"")) | R101: =IF(OR($A101="",I101="",Q101=""),"",I101*Q101) | S101: =IF($A101="","",I101-SUM(J101:O101)-R101) | U101: =IF(OR($A101="",T101="",T101=0),"",IFERROR(I101/T101,0)) | V101: =IF(OR($A101="",T101="",T101=0),"",IFERROR(S101/T101,0)) | W101: =IF($A101="","",IF(H101=12,"Locato tutto l'anno",IF(H101=0,"Sfitto","Locazione parziale")))
A103: Totali portafoglio | I103: =SUM(I2:I101) | J103: =SUM(J2:J101) | K103: =SUM(K2:K101) | L103: =SUM(L2:L101) | M103: =SUM(M2:M101) | N103: =SUM(N2:N101) | O103: =SUM(O2:O101) | R103: =SUM(R2:R101) | S103: =SUM(S2:S101) | T103: =SUM(T2:T101) | U103: =IFERROR(I103/T103,0) | V103: =IFERROR(S103/T103,0)

Sheet Riepilogo
A1: Indicatore | B1: Valore | D1: Componente | E1: Importo (€)
A2: Numero immobili | B2: =COUNTA('Immobili'!$A$2:$A$101) | D2: Spese complessive | E2: =SUM('Immobili'!$J$2:$O$101)
A3: Canone lordo complessivo (€) | B3: =SUM('Immobili'!$I$2:$I$101) | D3: Imposte stimate | E3: =SUM('Immobili'!$R$2:$R$101)
A4: Spese complessive (€) | B4: =SUM('Immobili'!$J$2:$O$101) | D4: Reddito operativo netto | E4: =SUM('Immobili'!$S$2:$S$101)
A5: Imposte stimate (€) | B5: =SUM('Immobili'!$R$2:$R$101)
A6: Reddito netto complessivo (€) | B6: =SUM('Immobili'!$S$2:$S$101)
A7: Rendita lorda media (%) | B7: =IFERROR(AVERAGE('Immobili'!$U$2:$U$101),0)
A8: Rendita netta media (%) | B8: =IFERROR(AVERAGE('Immobili'!$V$2:$V$101),0)
A9: Immobili locati tutto l'anno | B9: =COUNTIF('Immobili'!$W$2:$W$101,"Locato tutto l'anno")
A10: Valore acquisto complessivo (€) | B10: =SUM('Immobili'!$T$2:$T$101)
A13: Città | B13: Numero immobili | C13: Canone lordo (€) | D13: Reddito netto (€) | E13: Rendita netta media (%)
A14: Milano | B14: =IF(A14="","",COUNTIF('Immobili'!$C$2:$C$101,A14)) | C14: =IF(A14="","",SUMIF('Immobili'!$C$2:$C$101,A14,'Immobili'!$I$2:$I$101)) | D14: =IF(A14="","",SUMIF('Immobili'!$C$2:$C$101,A14,'Immobili'!$S$2:$S$101)) | E14: =IF(A14="","",IFERROR(AVERAGEIF('Immobili'!$C$2:$C$101,A14,'Immobili'!$V$2:$V$101),0))
A15: Roma | B15: =IF(A15="","",COUNTIF('Immobili'!$C$2:$C$101,A15)) | C15: =IF(A15="","",SUMIF('Immobili'!$C$2:$C$101,A15,'Immobili'!$I$2:$I$101)) | D15: =IF(A15="","",SUMIF('Immobili'!$C$2:$C$101,A15,'Immobili'!$S$2:$S$101)) | E15: =IF(A15="","",IFERROR(AVERAGEIF('Immobili'!$C$2:$C$101,A15,'Immobili'!$V$2:$V$101),0))
A16: Torino | B16: =IF(A16="","",COUNTIF('Immobili'!$C$2:$C$101,A16)) | C16: =IF(A16="","",SUMIF('Immobili'!$C$2:$C$101,A16,'Immobili'!$I$2:$I$101)) | D16: =IF(A16="","",SUMIF('Immobili'!$C$2:$C$101,A16,'Immobili'!$S$2:$S$101)) | E16: =IF(A16="","",IFERROR(AVERAGEIF('Immobili'!$C$2:$C$101,A16,'Immobili'!$V$2:$V$101),0))
A17: Bologna | B17: =IF(A17="","",COUNTIF('Immobili'!$C$2:$C$101,A17)) | C17: =IF(A17="","",SUMIF('Immobili'!$C$2:$C$101,A17,'Immobili'!$I$2:$I$101)) | D17: =IF(A17="","",SUMIF('Immobili'!$C$2:$C$101,A17,'Immobili'!$S$2:$S$101)) | E17: =IF(A17="","",IFERROR(AVERAGEIF('Immobili'!$C$2:$C$101,A17,'Immobili'!$V$2:$V$101),0))
A18: Napoli | B18: =IF(A18="","",COUNTIF('Immobili'!$C$2:$C$101,A18)) | C18: =IF(A18="","",SUMIF('Immobili'!$C$2:$C$101,A18,'Immobili'!$I$2:$I$101)) | D18: =IF(A18="","",SUMIF('Immobili'!$C$2:$C$101,A18,'Immobili'!$S$2:$S$101)) | E18: =IF(A18="","",IFERROR(AVERAGEIF('Immobili'!$C$2:$C$101,A18,'Immobili'!$V$2:$V$101),0))
A19: Firenze | B19: =IF(A19="","",COUNTIF('Immobili'!$C$2:$C$101,A19)) | C19: =IF(A19="","",SUMIF('Immobili'!$C$2:$C$101,A19,'Immobili'!$I$2:$I$101)) | D19: =IF(A19="","",SUMIF('Immobili'!$C$2:$C$101,A19,'Immobili'!$S$2:$S$101)) | E19: =IF(A19="","",IFERROR(AVERAGEIF('Immobili'!$C$2:$C$101,A19,'Immobili'!$V$2:$V$101),0))
A20: Verona | B20: =IF(A20="","",COUNTIF('Immobili'!$C$2:$C$101,A20)) | C20: =IF(A20="","",SUMIF('Immobili'!$C$2:$C$101,A20,'Immobili'!$I$2:$I$101)) | D20: =IF(A20="","",SUMIF('Immobili'!$C$2:$C$101,A20,'Immobili'!$S$2:$S$101)) | E20: =IF(A20="","",IFERROR(AVERAGEIF('Immobili'!$C$2:$C$101,A20,'Immobili'!$V$2:$V$101),0))
A21: Genova | B21: =IF(A21="","",COUNTIF('Immobili'!$C$2:$C$101,A21)) | C21: =IF(A21="","",SUMIF('Immobili'!$C$2:$C$101,A21,'Immobili'!$I$2:$I$101)) | D21: =IF(A21="","",SUMIF('Immobili'!$C$2:$C$101,A21,'Immobili'!$S$2:$S$101)) | E21: =IF(A21="","",IFERROR(AVERAGEIF('Immobili'!$C$2:$C$101,A21,'Immobili'!$V$2:$V$101),0))
B22: =IF(A22="","",COUNTIF('Immobili'!$C$2:$C$101,A22)) | C22: =IF(A22="","",SUMIF('Immobili'!$C$2:$C$101,A22,'Immobili'!$I$2:$I$101)) | D22: =IF(A22="","",SUMIF('Immobili'!$C$2:$C$101,A22,'Immobili'!$S$2:$S$101)) | E22: =IF(A22="","",IFERROR(AVERAGEIF('Immobili'!$C$2:$C$101,A22,'Immobili'!$V$2:$V$101),0))
B23: =IF(A23="","",COUNTIF('Immobili'!$C$2:$C$101,A23)) | C23: =IF(A23="","",SUMIF('Immobili'!$C$2:$C$101,A23,'Immobili'!$I$2:$I$101)) | D23: =IF(A23="","",SUMIF('Immobili'!$C$2:$C$101,A23,'Immobili'!$S$2:$S$101)) | E23: =IF(A23="","",IFERROR(AVERAGEIF('Immobili'!$C$2:$C$101,A23,'Immobili'!$V$2:$V$101),0))
B24: =IF(A24="","",COUNTIF('Immobili'!$C$2:$C$101,A24)) | C24: =IF(A24="","",SUMIF('Immobili'!$C$2:$C$101,A24,'Immobili'!$I$2:$I$101)) | D24: =IF(A24="","",SUMIF('Immobili'!$C$2:$C$101,A24,'Immobili'!$S$2:$S$101)) | E24: =IF(A24="","",IFERROR(AVERAGEIF('Immobili'!$C$2:$C$101,A24,'Immobili'!$V$2:$V$101),0))
B25: =IF(A25="","",COUNTIF('Immobili'!$C$2:$C$101,A25)) | C25: =IF(A25="","",SUMIF('Immobili'!$C$2:$C$101,A25,'Immobili'!$I$2:$I$101)) | D25: =IF(A25="","",SUMIF('Immobili'!$C$2:$C$101,A25,'Immobili'!$S$2:$S$101)) | E25: =IF(A25="","",IFERROR(AVERAGEIF('Immobili'!$C$2:$C$101,A25,'Immobili'!$V$2:$V$101),0))
B26: =IF(A26="","",COUNTIF('Immobili'!$C$2:$C$101,A26)) | C26: =IF(A26="","",SUMIF('Immobili'!$C$2:$C$101,A26,'Immobili'!$I$2:$I$101)) | D26: =IF(A26="","",SUMIF('Immobili'!$C$2:$C$101,A26,'Immobili'!$S$2:$S$101)) | E26: =IF(A26="","",IFERROR(AVERAGEIF('Immobili'!$C$2:$C$101,A26,'Immobili'!$V$2:$V$101),0))
B27: =IF(A27="","",COUNTIF('Immobili'!$C$2:$C$101,A27)) | C27: =IF(A27="","",SUMIF('Immobili'!$C$2:$C$101,A27,'Immobili'!$I$2:$I$101)) | D27: =IF(A27="","",SUMIF('Immobili'!$C$2:$C$101,A27,'Immobili'!$S$2:$S$101)) | E27: =IF(A27="","",IFERROR(AVERAGEIF('Immobili'!$C$2:$C$101,A27,'Immobili'!$V$2:$V$101),0))
B28: =IF(A28="","",COUNTIF('Immobili'!$C$2:$C$101,A28)) | C28: =IF(A28="","",SUMIF('Immobili'!$C$2:$C$101,A28,'Immobili'!$I$2:$I$101)) | D28: =IF(A28="","",SUMIF('Immobili'!$C$2:$C$101,A28,'Immobili'!$S$2:$S$101)) | E28: =IF(A28="","",IFERROR(AVERAGEIF('Immobili'!$C$2:$C$101,A28,'Immobili'!$V$2:$V$101),0))
B29: =IF(A29="","",COUNTIF('Immobili'!$C$2:$C$101,A29)) | C29: =IF(A29="","",SUMIF('Immobili'!$C$2:$C$101,A29,'Immobili'!$I$2:$I$101)) | D29: =IF(A29="","",SUMIF('Immobili'!$C$2:$C$101,A29,'Immobili'!$S$2:$S$101)) | E29: =IF(A29="","",IFERROR(AVERAGEIF('Immobili'!$C$2:$C$101,A29,'Immobili'!$V$2:$V$101),0))
B30: =IF(A30="","",COUNTIF('Immobili'!$C$2:$C$101,A30)) | C30: =IF(A30="","",SUMIF('Immobili'!$C$2:$C$101,A30,'Immobili'!$I$2:$I$101)) | D30: =IF(A30="","",SUMIF('Immobili'!$C$2:$C$101,A30,'Immobili'!$S$2:$S$101)) | E30: =IF(A30="","",IFERROR(AVERAGEIF('Immobili'!$C$2:$C$101,A30,'Immobili'!$V$2:$V$101),0))
B31: =IF(A31="","",COUNTIF('Immobili'!$C$2:$C$101,A31)) | C31: =IF(A31="","",SUMIF('Immobili'!$C$2:$C$101,A31,'Immobili'!$I$2:$I$101)) | D31: =IF(A31="","",SUMIF('Immobili'!$C$2:$C$101,A31,'Immobili'!$S$2:$S$101)) | E31: =IF(A31="","",IFERROR(AVERAGEIF('Immobili'!$C$2:$C$101,A31,'Immobili'!$V$2:$V$101),0))
B32: =IF(A32="","",COUNTIF('Immobili'!$C$2:$C$101,A32)) | C32: =IF(A32="","",SUMIF('Immobili'!$C$2:$C$101,A32,'Immobili'!$I$2:$I$101)) | D32: =IF(A32="","",SUMIF('Immobili'!$C$2:$C$101,A32,'Immobili'!$S$2:$S$101)) | E32: =IF(A32="","",IFERROR(AVERAGEIF('Immobili'!$C$2:$C$101,A32,'Immobili'!$V$2:$V$101),0))
B33: =IF(A33="","",COUNTIF('Immobili'!$C$2:$C$101,A33)) | C33: =IF(A33="","",SUMIF('Immobili'!$C$2:$C$101,A33,'Immobili'!$I$2:$I$101)) | D33: =IF(A33="","",SUMIF('Immobili'!$C$2:$C$101,A33,'Immobili'!$S$2:$S$101)) | E33: =IF(A33="","",IFERROR(AVERAGEIF('Immobili'!$C$2:$C$101,A33,'Immobili'!$V$2:$V$101),0))
... B113: =IF(A113="","",COUNTIF('Immobili'!$C$2:$C$101,A113)) | C113: =IF(A113="","",SUMIF('Immobili'!$C$2:$C$101,A113,'Immobili'!$I$2:$I$101)) | D113: =IF(A113="","",SUMIF('Immobili'!$C$2:$C$101,A113,'Immobili'!$S$2:$S$101)) | E113: =IF(A113="","",IFERROR(AVERAGEIF('Immobili'!$C$2:$C$101,A113,'Immobili'!$V$2:$V$101),0))

Sheet Impostazioni
A1: Regime fiscale | B1: Aliquota
A2: Cedolare secca 21% | B2: 0.21
A3: Cedolare secca 10% | B3: 0.1
A4: Regime ordinario | B4: 0.3
A6: Anno di riferimento | B6: 2026
A7: Valore complessivo investito (€) | B7: 1250000
A8: Data iniziale periodo | B8: 46053
A9: Data finale periodo | B9: 46387
A11: Note metodologiche | B11: Il calcolo è una simulazione gestionale e non sostituisce la verifica fiscale con un commercialista. IMU, TARI, manutenzioni e spese condominiali devono essere personalizzate.
A13: Istruzioni operative | B13: Indicazioni
A14: 1 | B14: Inserire o aggiornare gli immobili nel foglio Immobili; le celle gialle sono modificabili.
A15: 2 | B15: Aggiornare aliquote e parametri fiscali prima di utilizzare le stime di imposta.
A16: 3 | B16: Le rendite lorde e nette sono calcolate sul valore di acquisto indicato per ciascun immobile.
A17: 4 | B17: Nel foglio Riepilogo è possibile aggiungere ulteriori città nelle righe predisposte.
