Workbook

Sheet Contratti e calcolo
A1: ID contratto | B1: Locatore | C1: Codice fiscale/P.IVA locatore | D1: Conduttore | E1: Indirizzo immobile | F1: Comune | G1: Tipologia contratto | H1: Regime fiscale | I1: Data stipula | J1: Data decorrenza | K1: Data scadenza | L1: Canone annuo | M1: Mensilità annue | N1: Numero facciate | O1: Numero righe complessive | P1: Numero copie soggette a bollo | Q1: Aliquota bollo per unità | R1: Unità di bollo calcolate | S1: Imposta bollo teorica | T1: Esenzione cedolare secca | U1: Imposta bollo dovuta | V1: Data pagamento | W1: Stato pagamento | X1: Metodo pagamento | Y1: Note
A2: CTR-2026-001 | B2: Marco Rossi | C2: C.F. RSSMRC85M01F205X | D2: Elena Lombardi | E2: Via Roma 12 | F2: Milano | G2: 4+4 | H2: Ordinario | I2: 46037 | J2: 46054 | K2: 47514 | L2: 14400 | M2: 12 | N2: 6 | O2: 145 | P2: 2 | Q2: =IF($A2="","",IFERROR(VLOOKUP("Imposta bollo contratto",'Parametri e istruzioni'!$A$4:$B$9,2,FALSE),"")) | R2: =IF($A2="","",IF(OR(N2="",O2="",P2=""),"",IFERROR(MAX(ROUNDUP(N2/4,0),ROUNDUP(O2/100,0))*P2,""))) | S2: =IF($A2="","",IF(OR(R2="",Q2=""),"",IFERROR(R2*Q2,0))) | T2: =IF($A2="","",IF(H2="Cedolare secca","Sì","No")) | U2: =IF($A2="","",IF(T2="Sì",0,IF(OR(S2="",P2=""),"",IFERROR(S2*P2,0)))) | V2: 46042 | W2: =IF($A2="","",IF(U2="","",IF(U2=0,"Esente",IF(V2<>"","Pagato",IFERROR(IF(TODAY()>DATE(YEAR(K2),MONTH(K2),DAY(K2)),"Da verificare","In scadenza"),"Da verificare"))))) | X2: F24 ELIDE | Y2: Prima registrazione del contratto.
A3: CTR-2026-002 | B3: Giulia Bianchi | C3: C.F. BNCGLI88C48H501D | D3: Andrea Moretti | E3: Corso Italia 45 | F3: Roma | G3: 3+2 canone concordato | H3: Cedolare secca | I3: 46063 | J3: 46082 | K3: 47177 | L3: 13200 | M3: 12 | N3: 4 | O3: 88 | P3: 1 | Q3: =IF($A3="","",IFERROR(VLOOKUP("Imposta bollo contratto",'Parametri e istruzioni'!$A$4:$B$9,2,FALSE),"")) | R3: =IF($A3="","",IF(OR(N3="",O3="",P3=""),"",IFERROR(MAX(ROUNDUP(N3/4,0),ROUNDUP(O3/100,0))*P3,""))) | S3: =IF($A3="","",IF(OR(R3="",Q3=""),"",IFERROR(R3*Q3,0))) | T3: =IF($A3="","",IF(H3="Cedolare secca","Sì","No")) | U3: =IF($A3="","",IF(T3="Sì",0,IF(OR(S3="",P3=""),"",IFERROR(S3*P3,0)))) | W3: =IF($A3="","",IF(U3="","",IF(U3=0,"Esente",IF(V3<>"","Pagato",IFERROR(IF(TODAY()>DATE(YEAR(K3),MONTH(K3),DAY(K3)),"Da verificare","In scadenza"),"Da verificare"))))) | X3: Non dovuto | Y3: Regime di cedolare secca comunicato.
A4: CTR-2026-003 | B4: Luca Ferrari | C4: C.F. FRRLCU82P18L219Q | D4: Chiara Fontana | E4: Via Garibaldi 8 | F4: Torino | G4: Transitorio | H4: Ordinario | I4: 46083 | J4: 46096 | K4: 46261 | L4: 9600 | M4: 12 | N4: 3 | O4: 76 | P4: 2 | Q4: =IF($A4="","",IFERROR(VLOOKUP("Imposta bollo contratto",'Parametri e istruzioni'!$A$4:$B$9,2,FALSE),"")) | R4: =IF($A4="","",IF(OR(N4="",O4="",P4=""),"",IFERROR(MAX(ROUNDUP(N4/4,0),ROUNDUP(O4/100,0))*P4,""))) | S4: =IF($A4="","",IF(OR(R4="",Q4=""),"",IFERROR(R4*Q4,0))) | T4: =IF($A4="","",IF(H4="Cedolare secca","Sì","No")) | U4: =IF($A4="","",IF(T4="Sì",0,IF(OR(S4="",P4=""),"",IFERROR(S4*P4,0)))) | W4: =IF($A4="","",IF(U4="","",IF(U4=0,"Esente",IF(V4<>"","Pagato",IFERROR(IF(TODAY()>DATE(YEAR(K4),MONTH(K4),DAY(K4)),"Da verificare","In scadenza"),"Da verificare"))))) | Y4: Verificare pagamento e rinnovo del contratto transitorio.
A5: CTR-2026-004 | B5: Anna Esposito | C5: C.F. SPSNNA90D58F205S | D5: Davide Rinaldi | E5: Via Dante 3 | F5: Bologna | G5: 3+2 canone concordato | H5: Ordinario | I5: 46120 | J5: 46143 | K5: 47968 | L5: 15600 | M5: 12 | N5: 8 | O5: 220 | P5: 2 | Q5: =IF($A5="","",IFERROR(VLOOKUP("Imposta bollo contratto",'Parametri e istruzioni'!$A$4:$B$9,2,FALSE),"")) | R5: =IF($A5="","",IF(OR(N5="",O5="",P5=""),"",IFERROR(MAX(ROUNDUP(N5/4,0),ROUNDUP(O5/100,0))*P5,""))) | S5: =IF($A5="","",IF(OR(R5="",Q5=""),"",IFERROR(R5*Q5,0))) | T5: =IF($A5="","",IF(H5="Cedolare secca","Sì","No")) | U5: =IF($A5="","",IF(T5="Sì",0,IF(OR(S5="",P5=""),"",IFERROR(S5*P5,0)))) | W5: =IF($A5="","",IF(U5="","",IF(U5=0,"Esente",IF(V5<>"","Pagato",IFERROR(IF(TODAY()>DATE(YEAR(K5),MONTH(K5),DAY(K5)),"Da verificare","In scadenza"),"Da verificare"))))) | Y5: Canone concordato con attestazione territoriale.
A6: CTR-2026-005 | B6: Immobiliare Verdi SRL | C6: P.IVA 01234567890 | D6: Paolo De Luca | E6: Via dei Neri 18 | F6: Firenze | G6: 4+4 | H6: Ordinario | I6: 46152 | J6: 46174 | K6: 47634 | L6: 18600 | M6: 12 | N6: 12 | O6: 310 | P6: 3 | Q6: =IF($A6="","",IFERROR(VLOOKUP("Imposta bollo contratto",'Parametri e istruzioni'!$A$4:$B$9,2,FALSE),"")) | R6: =IF($A6="","",IF(OR(N6="",O6="",P6=""),"",IFERROR(MAX(ROUNDUP(N6/4,0),ROUNDUP(O6/100,0))*P6,""))) | S6: =IF($A6="","",IF(OR(R6="",Q6=""),"",IFERROR(R6*Q6,0))) | T6: =IF($A6="","",IF(H6="Cedolare secca","Sì","No")) | U6: =IF($A6="","",IF(T6="Sì",0,IF(OR(S6="",P6=""),"",IFERROR(S6*P6,0)))) | V6: 46156 | W6: =IF($A6="","",IF(U6="","",IF(U6=0,"Esente",IF(V6<>"","Pagato",IFERROR(IF(TODAY()>DATE(YEAR(K6),MONTH(K6),DAY(K6)),"Da verificare","In scadenza"),"Da verificare"))))) | X6: Addebito bancario | Y6: Locazione abitativa gestita da società immobiliare.
A7: CTR-2026-006 | B7: Francesca Romano | C7: C.F. RMNFNC87E61F839K | D7: Silvia Caruso | E7: Viale Europa 21 | F7: Napoli | G7: 4+4 | H7: Cedolare secca | I7: 46178 | J7: 46204 | K7: 47664 | L7: 10800 | M7: 12 | N7: 4 | O7: 97 | P7: 1 | Q7: =IF($A7="","",IFERROR(VLOOKUP("Imposta bollo contratto",'Parametri e istruzioni'!$A$4:$B$9,2,FALSE),"")) | R7: =IF($A7="","",IF(OR(N7="",O7="",P7=""),"",IFERROR(MAX(ROUNDUP(N7/4,0),ROUNDUP(O7/100,0))*P7,""))) | S7: =IF($A7="","",IF(OR(R7="",Q7=""),"",IFERROR(R7*Q7,0))) | T7: =IF($A7="","",IF(H7="Cedolare secca","Sì","No")) | U7: =IF($A7="","",IF(T7="Sì",0,IF(OR(S7="",P7=""),"",IFERROR(S7*P7,0)))) | W7: =IF($A7="","",IF(U7="","",IF(U7=0,"Esente",IF(V7<>"","Pagato",IFERROR(IF(TODAY()>DATE(YEAR(K7),MONTH(K7),DAY(K7)),"Da verificare","In scadenza"),"Da verificare"))))) | X7: Non dovuto | Y7: Esenzione bollo per opzione cedolare secca.
A8: CTR-2026-007 | B8: Giuseppe Conti | C8: C.F. CNTGPP79L12D969M | D8: Martina Sala | E8: Via XX Settembre 14 | F8: Genova | G8: Studenti universitari | H8: Ordinario | I8: 46204 | J8: 46235 | K8: 46293 | L8: 7800 | M8: 12 | N8: 2 | O8: 58 | P8: 2 | Q8: =IF($A8="","",IFERROR(VLOOKUP("Imposta bollo contratto",'Parametri e istruzioni'!$A$4:$B$9,2,FALSE),"")) | R8: =IF($A8="","",IF(OR(N8="",O8="",P8=""),"",IFERROR(MAX(ROUNDUP(N8/4,0),ROUNDUP(O8/100,0))*P8,""))) | S8: =IF($A8="","",IF(OR(R8="",Q8=""),"",IFERROR(R8*Q8,0))) | T8: =IF($A8="","",IF(H8="Cedolare secca","Sì","No")) | U8: =IF($A8="","",IF(T8="Sì",0,IF(OR(S8="",P8=""),"",IFERROR(S8*P8,0)))) | W8: =IF($A8="","",IF(U8="","",IF(U8=0,"Esente",IF(V8<>"","Pagato",IFERROR(IF(TODAY()>DATE(YEAR(K8),MONTH(K8),DAY(K8)),"Da verificare","In scadenza"),"Da verificare"))))) | Y8: Contratto per studentessa universitaria fuori sede.
A9: CTR-2026-008 | B9: Sara Greco | C9: C.F. GRCSRA91M55L781E | D9: Alessandro Neri | E9: Via Mazzini 27 | F9: Verona | G9: 3+2 canone concordato | H9: Cedolare secca | I9: 46246 | J9: 46266 | K9: 47726 | L9: 12000 | M9: 12 | N9: 5 | O9: 126 | P9: 1 | Q9: =IF($A9="","",IFERROR(VLOOKUP("Imposta bollo contratto",'Parametri e istruzioni'!$A$4:$B$9,2,FALSE),"")) | R9: =IF($A9="","",IF(OR(N9="",O9="",P9=""),"",IFERROR(MAX(ROUNDUP(N9/4,0),ROUNDUP(O9/100,0))*P9,""))) | S9: =IF($A9="","",IF(OR(R9="",Q9=""),"",IFERROR(R9*Q9,0))) | T9: =IF($A9="","",IF(H9="Cedolare secca","Sì","No")) | U9: =IF($A9="","",IF(T9="Sì",0,IF(OR(S9="",P9=""),"",IFERROR(S9*P9,0)))) | W9: =IF($A9="","",IF(U9="","",IF(U9=0,"Esente",IF(V9<>"","Pagato",IFERROR(IF(TODAY()>DATE(YEAR(K9),MONTH(K9),DAY(K9)),"Da verificare","In scadenza"),"Da verificare"))))) | X9: Non dovuto | Y9: Cedolare secca con canone concordato.
A10: CTR-2026-009 | B10: Matteo Ricci | C10: C.F. RCCMTT84S21A662N | D10: Valentina Costa | E10: Via Sparano 9 | F10: Bari | G10: Transitorio | H10: Ordinario | I10: 46267 | J10: 46275 | K10: 46660 | L10: 9000 | M10: 12 | N10: 3 | O10: 72 | P10: 2 | Q10: =IF($A10="","",IFERROR(VLOOKUP("Imposta bollo contratto",'Parametri e istruzioni'!$A$4:$B$9,2,FALSE),"")) | R10: =IF($A10="","",IF(OR(N10="",O10="",P10=""),"",IFERROR(MAX(ROUNDUP(N10/4,0),ROUNDUP(O10/100,0))*P10,""))) | S10: =IF($A10="","",IF(OR(R10="",Q10=""),"",IFERROR(R10*Q10,0))) | T10: =IF($A10="","",IF(H10="Cedolare secca","Sì","No")) | U10: =IF($A10="","",IF(T10="Sì",0,IF(OR(S10="",P10=""),"",IFERROR(S10*P10,0)))) | V10: 46269 | W10: =IF($A10="","",IF(U10="","",IF(U10=0,"Esente",IF(V10<>"","Pagato",IFERROR(IF(TODAY()>DATE(YEAR(K10),MONTH(K10),DAY(K10)),"Da verificare","In scadenza"),"Da verificare"))))) | X10: PagoPA | Y10: Contratto transitorio per esigenze lavorative.
Q11: =IF($A11="","",IFERROR(VLOOKUP("Imposta bollo contratto",'Parametri e istruzioni'!$A$4:$B$9,2,FALSE),"")) | R11: =IF($A11="","",IF(OR(N11="",O11="",P11=""),"",IFERROR(MAX(ROUNDUP(N11/4,0),ROUNDUP(O11/100,0))*P11,""))) | S11: =IF($A11="","",IF(OR(R11="",Q11=""),"",IFERROR(R11*Q11,0))) | T11: =IF($A11="","",IF(H11="Cedolare secca","Sì","No")) | U11: =IF($A11="","",IF(T11="Sì",0,IF(OR(S11="",P11=""),"",IFERROR(S11*P11,0)))) | W11: =IF($A11="","",IF(U11="","",IF(U11=0,"Esente",IF(V11<>"","Pagato",IFERROR(IF(TODAY()>DATE(YEAR(K11),MONTH(K11),DAY(K11)),"Da verificare","In scadenza"),"Da verificare")))))
Q12: =IF($A12="","",IFERROR(VLOOKUP("Imposta bollo contratto",'Parametri e istruzioni'!$A$4:$B$9,2,FALSE),"")) | R12: =IF($A12="","",IF(OR(N12="",O12="",P12=""),"",IFERROR(MAX(ROUNDUP(N12/4,0),ROUNDUP(O12/100,0))*P12,""))) | S12: =IF($A12="","",IF(OR(R12="",Q12=""),"",IFERROR(R12*Q12,0))) | T12: =IF($A12="","",IF(H12="Cedolare secca","Sì","No")) | U12: =IF($A12="","",IF(T12="Sì",0,IF(OR(S12="",P12=""),"",IFERROR(S12*P12,0)))) | W12: =IF($A12="","",IF(U12="","",IF(U12=0,"Esente",IF(V12<>"","Pagato",IFERROR(IF(TODAY()>DATE(YEAR(K12),MONTH(K12),DAY(K12)),"Da verificare","In scadenza"),"Da verificare")))))
Q13: =IF($A13="","",IFERROR(VLOOKUP("Imposta bollo contratto",'Parametri e istruzioni'!$A$4:$B$9,2,FALSE),"")) | R13: =IF($A13="","",IF(OR(N13="",O13="",P13=""),"",IFERROR(MAX(ROUNDUP(N13/4,0),ROUNDUP(O13/100,0))*P13,""))) | S13: =IF($A13="","",IF(OR(R13="",Q13=""),"",IFERROR(R13*Q13,0))) | T13: =IF($A13="","",IF(H13="Cedolare secca","Sì","No")) | U13: =IF($A13="","",IF(T13="Sì",0,IF(OR(S13="",P13=""),"",IFERROR(S13*P13,0)))) | W13: =IF($A13="","",IF(U13="","",IF(U13=0,"Esente",IF(V13<>"","Pagato",IFERROR(IF(TODAY()>DATE(YEAR(K13),MONTH(K13),DAY(K13)),"Da verificare","In scadenza"),"Da verificare")))))
Q14: =IF($A14="","",IFERROR(VLOOKUP("Imposta bollo contratto",'Parametri e istruzioni'!$A$4:$B$9,2,FALSE),"")) | R14: =IF($A14="","",IF(OR(N14="",O14="",P14=""),"",IFERROR(MAX(ROUNDUP(N14/4,0),ROUNDUP(O14/100,0))*P14,""))) | S14: =IF($A14="","",IF(OR(R14="",Q14=""),"",IFERROR(R14*Q14,0))) | T14: =IF($A14="","",IF(H14="Cedolare secca","Sì","No")) | U14: =IF($A14="","",IF(T14="Sì",0,IF(OR(S14="",P14=""),"",IFERROR(S14*P14,0)))) | W14: =IF($A14="","",IF(U14="","",IF(U14=0,"Esente",IF(V14<>"","Pagato",IFERROR(IF(TODAY()>DATE(YEAR(K14),MONTH(K14),DAY(K14)),"Da verificare","In scadenza"),"Da verificare")))))
Q15: =IF($A15="","",IFERROR(VLOOKUP("Imposta bollo contratto",'Parametri e istruzioni'!$A$4:$B$9,2,FALSE),"")) | R15: =IF($A15="","",IF(OR(N15="",O15="",P15=""),"",IFERROR(MAX(ROUNDUP(N15/4,0),ROUNDUP(O15/100,0))*P15,""))) | S15: =IF($A15="","",IF(OR(R15="",Q15=""),"",IFERROR(R15*Q15,0))) | T15: =IF($A15="","",IF(H15="Cedolare secca","Sì","No")) | U15: =IF($A15="","",IF(T15="Sì",0,IF(OR(S15="",P15=""),"",IFERROR(S15*P15,0)))) | W15: =IF($A15="","",IF(U15="","",IF(U15=0,"Esente",IF(V15<>"","Pagato",IFERROR(IF(TODAY()>DATE(YEAR(K15),MONTH(K15),DAY(K15)),"Da verificare","In scadenza"),"Da verificare")))))
Q16: =IF($A16="","",IFERROR(VLOOKUP("Imposta bollo contratto",'Parametri e istruzioni'!$A$4:$B$9,2,FALSE),"")) | R16: =IF($A16="","",IF(OR(N16="",O16="",P16=""),"",IFERROR(MAX(ROUNDUP(N16/4,0),ROUNDUP(O16/100,0))*P16,""))) | S16: =IF($A16="","",IF(OR(R16="",Q16=""),"",IFERROR(R16*Q16,0))) | T16: =IF($A16="","",IF(H16="Cedolare secca","Sì","No")) | U16: =IF($A16="","",IF(T16="Sì",0,IF(OR(S16="",P16=""),"",IFERROR(S16*P16,0)))) | W16: =IF($A16="","",IF(U16="","",IF(U16=0,"Esente",IF(V16<>"","Pagato",IFERROR(IF(TODAY()>DATE(YEAR(K16),MONTH(K16),DAY(K16)),"Da verificare","In scadenza"),"Da verificare")))))
Q17: =IF($A17="","",IFERROR(VLOOKUP("Imposta bollo contratto",'Parametri e istruzioni'!$A$4:$B$9,2,FALSE),"")) | R17: =IF($A17="","",IF(OR(N17="",O17="",P17=""),"",IFERROR(MAX(ROUNDUP(N17/4,0),ROUNDUP(O17/100,0))*P17,""))) | S17: =IF($A17="","",IF(OR(R17="",Q17=""),"",IFERROR(R17*Q17,0))) | T17: =IF($A17="","",IF(H17="Cedolare secca","Sì","No")) | U17: =IF($A17="","",IF(T17="Sì",0,IF(OR(S17="",P17=""),"",IFERROR(S17*P17,0)))) | W17: =IF($A17="","",IF(U17="","",IF(U17=0,"Esente",IF(V17<>"","Pagato",IFERROR(IF(TODAY()>DATE(YEAR(K17),MONTH(K17),DAY(K17)),"Da verificare","In scadenza"),"Da verificare")))))
Q18: =IF($A18="","",IFERROR(VLOOKUP("Imposta bollo contratto",'Parametri e istruzioni'!$A$4:$B$9,2,FALSE),"")) | R18: =IF($A18="","",IF(OR(N18="",O18="",P18=""),"",IFERROR(MAX(ROUNDUP(N18/4,0),ROUNDUP(O18/100,0))*P18,""))) | S18: =IF($A18="","",IF(OR(R18="",Q18=""),"",IFERROR(R18*Q18,0))) | T18: =IF($A18="","",IF(H18="Cedolare secca","Sì","No")) | U18: =IF($A18="","",IF(T18="Sì",0,IF(OR(S18="",P18=""),"",IFERROR(S18*P18,0)))) | W18: =IF($A18="","",IF(U18="","",IF(U18=0,"Esente",IF(V18<>"","Pagato",IFERROR(IF(TODAY()>DATE(YEAR(K18),MONTH(K18),DAY(K18)),"Da verificare","In scadenza"),"Da verificare")))))
Q19: =IF($A19="","",IFERROR(VLOOKUP("Imposta bollo contratto",'Parametri e istruzioni'!$A$4:$B$9,2,FALSE),"")) | R19: =IF($A19="","",IF(OR(N19="",O19="",P19=""),"",IFERROR(MAX(ROUNDUP(N19/4,0),ROUNDUP(O19/100,0))*P19,""))) | S19: =IF($A19="","",IF(OR(R19="",Q19=""),"",IFERROR(R19*Q19,0))) | T19: =IF($A19="","",IF(H19="Cedolare secca","Sì","No")) | U19: =IF($A19="","",IF(T19="Sì",0,IF(OR(S19="",P19=""),"",IFERROR(S19*P19,0)))) | W19: =IF($A19="","",IF(U19="","",IF(U19=0,"Esente",IF(V19<>"","Pagato",IFERROR(IF(TODAY()>DATE(YEAR(K19),MONTH(K19),DAY(K19)),"Da verificare","In scadenza"),"Da verificare")))))
Q20: =IF($A20="","",IFERROR(VLOOKUP("Imposta bollo contratto",'Parametri e istruzioni'!$A$4:$B$9,2,FALSE),"")) | R20: =IF($A20="","",IF(OR(N20="",O20="",P20=""),"",IFERROR(MAX(ROUNDUP(N20/4,0),ROUNDUP(O20/100,0))*P20,""))) | S20: =IF($A20="","",IF(OR(R20="",Q20=""),"",IFERROR(R20*Q20,0))) | T20: =IF($A20="","",IF(H20="Cedolare secca","Sì","No")) | U20: =IF($A20="","",IF(T20="Sì",0,IF(OR(S20="",P20=""),"",IFERROR(S20*P20,0)))) | W20: =IF($A20="","",IF(U20="","",IF(U20=0,"Esente",IF(V20<>"","Pagato",IFERROR(IF(TODAY()>DATE(YEAR(K20),MONTH(K20),DAY(K20)),"Da verificare","In scadenza"),"Da verificare")))))
Q21: =IF($A21="","",IFERROR(VLOOKUP("Imposta bollo contratto",'Parametri e istruzioni'!$A$4:$B$9,2,FALSE),"")) | R21: =IF($A21="","",IF(OR(N21="",O21="",P21=""),"",IFERROR(MAX(ROUNDUP(N21/4,0),ROUNDUP(O21/100,0))*P21,""))) | S21: =IF($A21="","",IF(OR(R21="",Q21=""),"",IFERROR(R21*Q21,0))) | T21: =IF($A21="","",IF(H21="Cedolare secca","Sì","No")) | U21: =IF($A21="","",IF(T21="Sì",0,IF(OR(S21="",P21=""),"",IFERROR(S21*P21,0)))) | W21: =IF($A21="","",IF(U21="","",IF(U21=0,"Esente",IF(V21<>"","Pagato",IFERROR(IF(TODAY()>DATE(YEAR(K21),MONTH(K21),DAY(K21)),"Da verificare","In scadenza"),"Da verificare")))))
Q22: =IF($A22="","",IFERROR(VLOOKUP("Imposta bollo contratto",'Parametri e istruzioni'!$A$4:$B$9,2,FALSE),"")) | R22: =IF($A22="","",IF(OR(N22="",O22="",P22=""),"",IFERROR(MAX(ROUNDUP(N22/4,0),ROUNDUP(O22/100,0))*P22,""))) | S22: =IF($A22="","",IF(OR(R22="",Q22=""),"",IFERROR(R22*Q22,0))) | T22: =IF($A22="","",IF(H22="Cedolare secca","Sì","No")) | U22: =IF($A22="","",IF(T22="Sì",0,IF(OR(S22="",P22=""),"",IFERROR(S22*P22,0)))) | W22: =IF($A22="","",IF(U22="","",IF(U22=0,"Esente",IF(V22<>"","Pagato",IFERROR(IF(TODAY()>DATE(YEAR(K22),MONTH(K22),DAY(K22)),"Da verificare","In scadenza"),"Da verificare")))))
... Q101: =IF($A101="","",IFERROR(VLOOKUP("Imposta bollo contratto",'Parametri e istruzioni'!$A$4:$B$9,2,FALSE),"")) | R101: =IF($A101="","",IF(OR(N101="",O101="",P101=""),"",IFERROR(MAX(ROUNDUP(N101/4,0),ROUNDUP(O101/100,0))*P101,""))) | S101: =IF($A101="","",IF(OR(R101="",Q101=""),"",IFERROR(R101*Q101,0))) | T101: =IF($A101="","",IF(H101="Cedolare secca","Sì","No")) | U101: =IF($A101="","",IF(T101="Sì",0,IF(OR(S101="",P101=""),"",IFERROR(S101*P101,0)))) | W101: =IF($A101="","",IF(U101="","",IF(U101=0,"Esente",IF(V101<>"","Pagato",IFERROR(IF(TODAY()>DATE(YEAR(K101),MONTH(K101),DAY(K101)),"Da verificare","In scadenza"),"Da verificare")))))
A103: Totali registrati | L103: =SUM(L2:L101) | S103: =SUM(S2:S101) | U103: =SUM(U2:U101)

Sheet Riepilogo
A1: Riepilogo imposta di bollo sui contratti di locazione
A3: Numero totale contratti | B3: =COUNTA('Contratti e calcolo'!$A$2:$A$101) | G3: Stato pagamento | H3: Numero contratti
A4: Contratti in cedolare secca | B4: =COUNTIF('Contratti e calcolo'!$H$2:$H$101,"Cedolare secca") | G4: Pagato | H4: =COUNTIF('Contratti e calcolo'!$W$2:$W$101,G4)
A5: Contratti ordinari | B5: =COUNTIF('Contratti e calcolo'!$H$2:$H$101,"Ordinario") | G5: In scadenza | H5: =COUNTIF('Contratti e calcolo'!$W$2:$W$101,G5)
A6: Totale imposta teorica | B6: =SUM('Contratti e calcolo'!$S$2:$S$101) | G6: Da verificare | H6: =COUNTIF('Contratti e calcolo'!$W$2:$W$101,G6)
A7: Totale imposta dovuta | B7: =SUM('Contratti e calcolo'!$U$2:$U$101) | G7: Esente | H7: =COUNTIF('Contratti e calcolo'!$W$2:$W$101,G7)
A8: Media imposta dovuta | B8: =IFERROR(AVERAGE('Contratti e calcolo'!$U$2:$U$101),0)
A9: Contratti da verificare | B9: =COUNTIF('Contratti e calcolo'!$W$2:$W$101,"Da verificare")
A10: Percentuale contratti esenti | B10: =IF(B3=0,0,B4/B3)
G12: Regime fiscale | H12: Numero contratti
A13: Simulazione costo finanziato | G13: Ordinario | H13: =B5
A14: Importo finanziato | B14: 480 | G14: Cedolare secca | H14: =B4
A15: TAN annuo | B15: 0.065
A16: Durata in mesi | B16: 12
A17: Rata stimata | B17: =IF(OR(B14="",B15="",B16="",B16=0),"",IFERROR(PMT(B15/12,B16,-B14),0))

Sheet Parametri e istruzioni
A1: Parametri e istruzioni per l'imposta di bollo
A3: Parametro | B3: Valore
A4: Imposta bollo contratto | B4: 16
A5: Facciate comprese per unità | B5: 4
A6: Righe comprese per unità | B6: 100
A7: Aliquota imposta registro ordinaria | B7: 0.02
A8: Cedolare secca abitativa | B8: 0.21
A9: Cedolare secca canone concordato | B9: 0.1
A12: Istruzioni operative
A13: 1. Inserire o aggiornare i contratti nel foglio “Contratti e calcolo”. Le celle gialle sono modificabili.
A14: 2. Il calcolo considera il maggiore tra le unità determinate da facciate e righe, moltiplicato per le copie soggette a bollo.
A15: 3. Per ogni unità di bollo sono considerate le soglie modificabili di facciate e righe riportate nella tabella parametri.
A16: 4. In caso di cedolare secca, il file evidenzia l'esenzione dall'imposta di bollo secondo il regime selezionato.
A17: 5. La registrazione del contratto e le successive comunicazioni avvengono normalmente tramite modello RLI.
A18: 6. L'imposta di bollo è distinta dall'imposta di registro: quest'ultima può dipendere dal regime fiscale e dalla tipologia contrattuale.
A19: 7. Utilizzare le colonne Data pagamento, Stato pagamento e Metodo pagamento per monitorare gli adempimenti.
A20: Nota importante: verificare sempre importi, modalità di pagamento e aggiornamenti normativi con Agenzia delle Entrate.
