Workbook

Sheet Calcolo Acquisti
A1: Calcolo imposte acquisto prima casa
A2: Inserire i dati nelle celle gialle. Le colonne con calcoli si aggiornano automaticamente.
A3: ID pratica | B3: Data rogito | C3: Acquirente | D3: Venditore / impresa | E3: Indirizzo immobile | F3: Comune | G3: Tipologia venditore | H3: Prezzo di acquisto | I3: Rendita catastale | J3: Valore catastale prima casa | K3: Aliquota imposta di registro | L3: Imposta di registro proporzionale | M3: Imposta ipotecaria | N3: Imposta catastale | O3: IVA prima casa | P3: Imposta di registro fissa | Q3: Imposta ipotecaria fissa | R3: Imposta catastale fissa | S3: Imposta sostitutiva mutuo | T3: Importo mutuo | U3: Imposte acquisto totali | V3: Spese notarili | W3: Provvigione agenzia | X3: Costi accessori totali | Y3: Esborso iniziale complessivo | Z3: Agevolazione prima casa verificata | AA3: Note
A4: PR-2026-001 | B4: 46093 | C4: Marco Rossi | D4: Giuseppe Conti | E4: Via Roma 12 | F4: Milano | G4: Privato | H4: 185000 | I4: 680 | J4: =IF(I4="","",I4*(1+'Parametri'!$B$10)*'Parametri'!$B$9) | K4: =IF(G4="","",'Parametri'!$B$11) | L4: =IF(OR(G4="",I4=""),"",IF(G4="Privato",MAX(J4*K4,'Parametri'!$B$13),0)) | M4: =IF(G4="","",IF(G4="Privato",IFERROR(VLOOKUP(G4,'Parametri'!$A$5:$E$6,4,0),0),0)) | N4: =IF(G4="","",IF(G4="Privato",IFERROR(VLOOKUP(G4,'Parametri'!$A$5:$E$6,5,0),0),0)) | O4: =IF(OR(G4="",H4=""),"",IF(G4="Impresa costruttrice",H4*IFERROR(VLOOKUP(G4,'Parametri'!$A$5:$E$6,2,0),0),0)) | P4: =IF(G4="","",IF(G4="Impresa costruttrice",IFERROR(VLOOKUP(G4,'Parametri'!$A$5:$E$6,3,0),0),0)) | Q4: =IF(G4="","",IF(G4="Impresa costruttrice",IFERROR(VLOOKUP(G4,'Parametri'!$A$5:$E$6,4,0),0),0)) | R4: =IF(G4="","",IF(G4="Impresa costruttrice",IFERROR(VLOOKUP(G4,'Parametri'!$A$5:$E$6,5,0),0),0)) | S4: =IF(T4="","",T4*'Parametri'!$B$12) | T4: 130000 | U4: =IF(A4="","",SUM(L4:T4)) | V4: 3200 | W4: =IF(H4="","",H4*'Parametri'!$B$14*(1+'Parametri'!$B$15)) | X4: =IF(A4="","",SUM(V4:W4)) | Y4: =IF(OR(A4="",H4=""),"",U4+X4+MAX(H4-T4,0)) | Z4: =IF(A4="","",IF(AND(F4<>"",OR(G4="Privato",G4="Impresa costruttrice")),"Sì","Verificare")) | AA4: Acquisto da privato con agevolazione prima casa.
A5: PR-2026-002 | B5: 46109 | C5: Giulia Bianchi | D5: Immobiliare Verdi SRL | E5: Corso Italia 45 | F5: Roma | G5: Impresa costruttrice | H5: 310000 | I5: 1100 | J5: =IF(I5="","",I5*(1+'Parametri'!$B$10)*'Parametri'!$B$9) | K5: =IF(G5="","",'Parametri'!$B$11) | L5: =IF(OR(G5="",I5=""),"",IF(G5="Privato",MAX(J5*K5,'Parametri'!$B$13),0)) | M5: =IF(G5="","",IF(G5="Privato",IFERROR(VLOOKUP(G5,'Parametri'!$A$5:$E$6,4,0),0),0)) | N5: =IF(G5="","",IF(G5="Privato",IFERROR(VLOOKUP(G5,'Parametri'!$A$5:$E$6,5,0),0),0)) | O5: =IF(OR(G5="",H5=""),"",IF(G5="Impresa costruttrice",H5*IFERROR(VLOOKUP(G5,'Parametri'!$A$5:$E$6,2,0),0),0)) | P5: =IF(G5="","",IF(G5="Impresa costruttrice",IFERROR(VLOOKUP(G5,'Parametri'!$A$5:$E$6,3,0),0),0)) | Q5: =IF(G5="","",IF(G5="Impresa costruttrice",IFERROR(VLOOKUP(G5,'Parametri'!$A$5:$E$6,4,0),0),0)) | R5: =IF(G5="","",IF(G5="Impresa costruttrice",IFERROR(VLOOKUP(G5,'Parametri'!$A$5:$E$6,5,0),0),0)) | S5: =IF(T5="","",T5*'Parametri'!$B$12) | T5: 240000 | U5: =IF(A5="","",SUM(L5:T5)) | V5: 4600 | W5: =IF(H5="","",H5*'Parametri'!$B$14*(1+'Parametri'!$B$15)) | X5: =IF(A5="","",SUM(V5:W5)) | Y5: =IF(OR(A5="",H5=""),"",U5+X5+MAX(H5-T5,0)) | Z5: =IF(A5="","",IF(AND(F5<>"",OR(G5="Privato",G5="Impresa costruttrice")),"Sì","Verificare")) | AA5: Unità di nuova costruzione soggetta a IVA.
A6: PR-2026-003 | B6: 46129 | C6: Luca Ferrari | D6: Anna Esposito | E6: Via Garibaldi 8 | F6: Torino | G6: Privato | H6: 220000 | I6: 760 | J6: =IF(I6="","",I6*(1+'Parametri'!$B$10)*'Parametri'!$B$9) | K6: =IF(G6="","",'Parametri'!$B$11) | L6: =IF(OR(G6="",I6=""),"",IF(G6="Privato",MAX(J6*K6,'Parametri'!$B$13),0)) | M6: =IF(G6="","",IF(G6="Privato",IFERROR(VLOOKUP(G6,'Parametri'!$A$5:$E$6,4,0),0),0)) | N6: =IF(G6="","",IF(G6="Privato",IFERROR(VLOOKUP(G6,'Parametri'!$A$5:$E$6,5,0),0),0)) | O6: =IF(OR(G6="",H6=""),"",IF(G6="Impresa costruttrice",H6*IFERROR(VLOOKUP(G6,'Parametri'!$A$5:$E$6,2,0),0),0)) | P6: =IF(G6="","",IF(G6="Impresa costruttrice",IFERROR(VLOOKUP(G6,'Parametri'!$A$5:$E$6,3,0),0),0)) | Q6: =IF(G6="","",IF(G6="Impresa costruttrice",IFERROR(VLOOKUP(G6,'Parametri'!$A$5:$E$6,4,0),0),0)) | R6: =IF(G6="","",IF(G6="Impresa costruttrice",IFERROR(VLOOKUP(G6,'Parametri'!$A$5:$E$6,5,0),0),0)) | S6: =IF(T6="","",T6*'Parametri'!$B$12) | T6: 165000 | U6: =IF(A6="","",SUM(L6:T6)) | V6: 3600 | W6: =IF(H6="","",H6*'Parametri'!$B$14*(1+'Parametri'!$B$15)) | X6: =IF(A6="","",SUM(V6:W6)) | Y6: =IF(OR(A6="",H6=""),"",U6+X6+MAX(H6-T6,0)) | Z6: =IF(A6="","",IF(AND(F6<>"",OR(G6="Privato",G6="Impresa costruttrice")),"Sì","Verificare")) | AA6: Rogito con mutuo ipotecario prima casa.
A7: PR-2026-004 | B7: 46151 | C7: Anna Esposito | D7: Immobiliare Verdi SRL | E7: Via Mazzini 19 | F7: Bologna | G7: Impresa costruttrice | H7: 390000 | I7: 1450 | J7: =IF(I7="","",I7*(1+'Parametri'!$B$10)*'Parametri'!$B$9) | K7: =IF(G7="","",'Parametri'!$B$11) | L7: =IF(OR(G7="",I7=""),"",IF(G7="Privato",MAX(J7*K7,'Parametri'!$B$13),0)) | M7: =IF(G7="","",IF(G7="Privato",IFERROR(VLOOKUP(G7,'Parametri'!$A$5:$E$6,4,0),0),0)) | N7: =IF(G7="","",IF(G7="Privato",IFERROR(VLOOKUP(G7,'Parametri'!$A$5:$E$6,5,0),0),0)) | O7: =IF(OR(G7="",H7=""),"",IF(G7="Impresa costruttrice",H7*IFERROR(VLOOKUP(G7,'Parametri'!$A$5:$E$6,2,0),0),0)) | P7: =IF(G7="","",IF(G7="Impresa costruttrice",IFERROR(VLOOKUP(G7,'Parametri'!$A$5:$E$6,3,0),0),0)) | Q7: =IF(G7="","",IF(G7="Impresa costruttrice",IFERROR(VLOOKUP(G7,'Parametri'!$A$5:$E$6,4,0),0),0)) | R7: =IF(G7="","",IF(G7="Impresa costruttrice",IFERROR(VLOOKUP(G7,'Parametri'!$A$5:$E$6,5,0),0),0)) | S7: =IF(T7="","",T7*'Parametri'!$B$12) | T7: 305000 | U7: =IF(A7="","",SUM(L7:T7)) | V7: 5400 | W7: =IF(H7="","",H7*'Parametri'!$B$14*(1+'Parametri'!$B$15)) | X7: =IF(A7="","",SUM(V7:W7)) | Y7: =IF(OR(A7="",H7=""),"",U7+X7+MAX(H7-T7,0)) | Z7: =IF(A7="","",IF(AND(F7<>"",OR(G7="Privato",G7="Impresa costruttrice")),"Sì","Verificare")) | AA7: Acquisto da impresa costruttrice.
A8: PR-2026-005 | B8: 46169 | C8: Francesca Romano | D8: Marco Rossi | E8: Via Dante 3 | F8: Firenze | G8: Privato | H8: 165000 | I8: 520 | J8: =IF(I8="","",I8*(1+'Parametri'!$B$10)*'Parametri'!$B$9) | K8: =IF(G8="","",'Parametri'!$B$11) | L8: =IF(OR(G8="",I8=""),"",IF(G8="Privato",MAX(J8*K8,'Parametri'!$B$13),0)) | M8: =IF(G8="","",IF(G8="Privato",IFERROR(VLOOKUP(G8,'Parametri'!$A$5:$E$6,4,0),0),0)) | N8: =IF(G8="","",IF(G8="Privato",IFERROR(VLOOKUP(G8,'Parametri'!$A$5:$E$6,5,0),0),0)) | O8: =IF(OR(G8="",H8=""),"",IF(G8="Impresa costruttrice",H8*IFERROR(VLOOKUP(G8,'Parametri'!$A$5:$E$6,2,0),0),0)) | P8: =IF(G8="","",IF(G8="Impresa costruttrice",IFERROR(VLOOKUP(G8,'Parametri'!$A$5:$E$6,3,0),0),0)) | Q8: =IF(G8="","",IF(G8="Impresa costruttrice",IFERROR(VLOOKUP(G8,'Parametri'!$A$5:$E$6,4,0),0),0)) | R8: =IF(G8="","",IF(G8="Impresa costruttrice",IFERROR(VLOOKUP(G8,'Parametri'!$A$5:$E$6,5,0),0),0)) | S8: =IF(T8="","",T8*'Parametri'!$B$12) | T8: 115000 | U8: =IF(A8="","",SUM(L8:T8)) | V8: 3000 | W8: =IF(H8="","",H8*'Parametri'!$B$14*(1+'Parametri'!$B$15)) | X8: =IF(A8="","",SUM(V8:W8)) | Y8: =IF(OR(A8="",H8=""),"",U8+X8+MAX(H8-T8,0)) | Z8: =IF(A8="","",IF(AND(F8<>"",OR(G8="Privato",G8="Impresa costruttrice")),"Sì","Verificare")) | AA8: Appartamento con rendita catastale aggiornata.
A9: PR-2026-006 | B9: 46191 | C9: Giuseppe Conti | D9: Immobiliare Verdi SRL | E9: Viale Europa 21 | F9: Napoli | G9: Impresa costruttrice | H9: 275000 | I9: 980 | J9: =IF(I9="","",I9*(1+'Parametri'!$B$10)*'Parametri'!$B$9) | K9: =IF(G9="","",'Parametri'!$B$11) | L9: =IF(OR(G9="",I9=""),"",IF(G9="Privato",MAX(J9*K9,'Parametri'!$B$13),0)) | M9: =IF(G9="","",IF(G9="Privato",IFERROR(VLOOKUP(G9,'Parametri'!$A$5:$E$6,4,0),0),0)) | N9: =IF(G9="","",IF(G9="Privato",IFERROR(VLOOKUP(G9,'Parametri'!$A$5:$E$6,5,0),0),0)) | O9: =IF(OR(G9="",H9=""),"",IF(G9="Impresa costruttrice",H9*IFERROR(VLOOKUP(G9,'Parametri'!$A$5:$E$6,2,0),0),0)) | P9: =IF(G9="","",IF(G9="Impresa costruttrice",IFERROR(VLOOKUP(G9,'Parametri'!$A$5:$E$6,3,0),0),0)) | Q9: =IF(G9="","",IF(G9="Impresa costruttrice",IFERROR(VLOOKUP(G9,'Parametri'!$A$5:$E$6,4,0),0),0)) | R9: =IF(G9="","",IF(G9="Impresa costruttrice",IFERROR(VLOOKUP(G9,'Parametri'!$A$5:$E$6,5,0),0),0)) | S9: =IF(T9="","",T9*'Parametri'!$B$12) | T9: 210000 | U9: =IF(A9="","",SUM(L9:T9)) | V9: 4300 | W9: =IF(H9="","",H9*'Parametri'!$B$14*(1+'Parametri'!$B$15)) | X9: =IF(A9="","",SUM(V9:W9)) | Y9: =IF(OR(A9="",H9=""),"",U9+X9+MAX(H9-T9,0)) | Z9: =IF(A9="","",IF(AND(F9<>"",OR(G9="Privato",G9="Impresa costruttrice")),"Sì","Verificare")) | AA9: Compravendita soggetta a IVA prima casa.
A10: PR-2026-007 | B10: 46210 | C10: Sara Greco | D10: Luca Ferrari | E10: Via Roma 88 | F10: Milano | G10: Privato | H10: 145000 | I10: 540 | J10: =IF(I10="","",I10*(1+'Parametri'!$B$10)*'Parametri'!$B$9) | K10: =IF(G10="","",'Parametri'!$B$11) | L10: =IF(OR(G10="",I10=""),"",IF(G10="Privato",MAX(J10*K10,'Parametri'!$B$13),0)) | M10: =IF(G10="","",IF(G10="Privato",IFERROR(VLOOKUP(G10,'Parametri'!$A$5:$E$6,4,0),0),0)) | N10: =IF(G10="","",IF(G10="Privato",IFERROR(VLOOKUP(G10,'Parametri'!$A$5:$E$6,5,0),0),0)) | O10: =IF(OR(G10="",H10=""),"",IF(G10="Impresa costruttrice",H10*IFERROR(VLOOKUP(G10,'Parametri'!$A$5:$E$6,2,0),0),0)) | P10: =IF(G10="","",IF(G10="Impresa costruttrice",IFERROR(VLOOKUP(G10,'Parametri'!$A$5:$E$6,3,0),0),0)) | Q10: =IF(G10="","",IF(G10="Impresa costruttrice",IFERROR(VLOOKUP(G10,'Parametri'!$A$5:$E$6,4,0),0),0)) | R10: =IF(G10="","",IF(G10="Impresa costruttrice",IFERROR(VLOOKUP(G10,'Parametri'!$A$5:$E$6,5,0),0),0)) | S10: =IF(T10="","",T10*'Parametri'!$B$12) | T10: 100000 | U10: =IF(A10="","",SUM(L10:T10)) | V10: 2800 | W10: =IF(H10="","",H10*'Parametri'!$B$14*(1+'Parametri'!$B$15)) | X10: =IF(A10="","",SUM(V10:W10)) | Y10: =IF(OR(A10="",H10=""),"",U10+X10+MAX(H10-T10,0)) | Z10: =IF(A10="","",IF(AND(F10<>"",OR(G10="Privato",G10="Impresa costruttrice")),"Sì","Verificare")) | AA10: Acquisto con anticipo prezzo finanziato parzialmente.
A11: PR-2026-008 | B11: 46255 | C11: Matteo Ricci | D11: Immobiliare Verdi SRL | E11: Corso Francia 55 | F11: Torino | G11: Impresa costruttrice | H11: 335000 | I11: 1220 | J11: =IF(I11="","",I11*(1+'Parametri'!$B$10)*'Parametri'!$B$9) | K11: =IF(G11="","",'Parametri'!$B$11) | L11: =IF(OR(G11="",I11=""),"",IF(G11="Privato",MAX(J11*K11,'Parametri'!$B$13),0)) | M11: =IF(G11="","",IF(G11="Privato",IFERROR(VLOOKUP(G11,'Parametri'!$A$5:$E$6,4,0),0),0)) | N11: =IF(G11="","",IF(G11="Privato",IFERROR(VLOOKUP(G11,'Parametri'!$A$5:$E$6,5,0),0),0)) | O11: =IF(OR(G11="",H11=""),"",IF(G11="Impresa costruttrice",H11*IFERROR(VLOOKUP(G11,'Parametri'!$A$5:$E$6,2,0),0),0)) | P11: =IF(G11="","",IF(G11="Impresa costruttrice",IFERROR(VLOOKUP(G11,'Parametri'!$A$5:$E$6,3,0),0),0)) | Q11: =IF(G11="","",IF(G11="Impresa costruttrice",IFERROR(VLOOKUP(G11,'Parametri'!$A$5:$E$6,4,0),0),0)) | R11: =IF(G11="","",IF(G11="Impresa costruttrice",IFERROR(VLOOKUP(G11,'Parametri'!$A$5:$E$6,5,0),0),0)) | S11: =IF(T11="","",T11*'Parametri'!$B$12) | T11: 260000 | U11: =IF(A11="","",SUM(L11:T11)) | V11: 4900 | W11: =IF(H11="","",H11*'Parametri'!$B$14*(1+'Parametri'!$B$15)) | X11: =IF(A11="","",SUM(V11:W11)) | Y11: =IF(OR(A11="",H11=""),"",U11+X11+MAX(H11-T11,0)) | Z11: =IF(A11="","",IF(AND(F11<>"",OR(G11="Privato",G11="Impresa costruttrice")),"Sì","Verificare")) | AA11: Immobile di nuova costruzione in classe energetica elevata.
A12: PR-2026-009 | B12: 46280 | C12: Elena Moretti | D12: Francesca Romano | E12: Via Dante 44 | F12: Firenze | G12: Privato | H12: 250000 | I12: 840 | J12: =IF(I12="","",I12*(1+'Parametri'!$B$10)*'Parametri'!$B$9) | K12: =IF(G12="","",'Parametri'!$B$11) | L12: =IF(OR(G12="",I12=""),"",IF(G12="Privato",MAX(J12*K12,'Parametri'!$B$13),0)) | M12: =IF(G12="","",IF(G12="Privato",IFERROR(VLOOKUP(G12,'Parametri'!$A$5:$E$6,4,0),0),0)) | N12: =IF(G12="","",IF(G12="Privato",IFERROR(VLOOKUP(G12,'Parametri'!$A$5:$E$6,5,0),0),0)) | O12: =IF(OR(G12="",H12=""),"",IF(G12="Impresa costruttrice",H12*IFERROR(VLOOKUP(G12,'Parametri'!$A$5:$E$6,2,0),0),0)) | P12: =IF(G12="","",IF(G12="Impresa costruttrice",IFERROR(VLOOKUP(G12,'Parametri'!$A$5:$E$6,3,0),0),0)) | Q12: =IF(G12="","",IF(G12="Impresa costruttrice",IFERROR(VLOOKUP(G12,'Parametri'!$A$5:$E$6,4,0),0),0)) | R12: =IF(G12="","",IF(G12="Impresa costruttrice",IFERROR(VLOOKUP(G12,'Parametri'!$A$5:$E$6,5,0),0),0)) | S12: =IF(T12="","",T12*'Parametri'!$B$12) | T12: 190000 | U12: =IF(A12="","",SUM(L12:T12)) | V12: 4100 | W12: =IF(H12="","",H12*'Parametri'!$B$14*(1+'Parametri'!$B$15)) | X12: =IF(A12="","",SUM(V12:W12)) | Y12: =IF(OR(A12="",H12=""),"",U12+X12+MAX(H12-T12,0)) | Z12: =IF(A12="","",IF(AND(F12<>"",OR(G12="Privato",G12="Impresa costruttrice")),"Sì","Verificare")) | AA12: Verifica documentazione catastale prevista prima del rogito.
J13: =IF(I13="","",I13*(1+'Parametri'!$B$10)*'Parametri'!$B$9) | K13: =IF(G13="","",'Parametri'!$B$11) | L13: =IF(OR(G13="",I13=""),"",IF(G13="Privato",MAX(J13*K13,'Parametri'!$B$13),0)) | M13: =IF(G13="","",IF(G13="Privato",IFERROR(VLOOKUP(G13,'Parametri'!$A$5:$E$6,4,0),0),0)) | N13: =IF(G13="","",IF(G13="Privato",IFERROR(VLOOKUP(G13,'Parametri'!$A$5:$E$6,5,0),0),0)) | O13: =IF(OR(G13="",H13=""),"",IF(G13="Impresa costruttrice",H13*IFERROR(VLOOKUP(G13,'Parametri'!$A$5:$E$6,2,0),0),0)) | P13: =IF(G13="","",IF(G13="Impresa costruttrice",IFERROR(VLOOKUP(G13,'Parametri'!$A$5:$E$6,3,0),0),0)) | Q13: =IF(G13="","",IF(G13="Impresa costruttrice",IFERROR(VLOOKUP(G13,'Parametri'!$A$5:$E$6,4,0),0),0)) | R13: =IF(G13="","",IF(G13="Impresa costruttrice",IFERROR(VLOOKUP(G13,'Parametri'!$A$5:$E$6,5,0),0),0)) | S13: =IF(T13="","",T13*'Parametri'!$B$12) | U13: =IF(A13="","",SUM(L13:T13)) | W13: =IF(H13="","",H13*'Parametri'!$B$14*(1+'Parametri'!$B$15)) | X13: =IF(A13="","",SUM(V13:W13)) | Y13: =IF(OR(A13="",H13=""),"",U13+X13+MAX(H13-T13,0)) | Z13: =IF(A13="","",IF(AND(F13<>"",OR(G13="Privato",G13="Impresa costruttrice")),"Sì","Verificare"))
J14: =IF(I14="","",I14*(1+'Parametri'!$B$10)*'Parametri'!$B$9) | K14: =IF(G14="","",'Parametri'!$B$11) | L14: =IF(OR(G14="",I14=""),"",IF(G14="Privato",MAX(J14*K14,'Parametri'!$B$13),0)) | M14: =IF(G14="","",IF(G14="Privato",IFERROR(VLOOKUP(G14,'Parametri'!$A$5:$E$6,4,0),0),0)) | N14: =IF(G14="","",IF(G14="Privato",IFERROR(VLOOKUP(G14,'Parametri'!$A$5:$E$6,5,0),0),0)) | O14: =IF(OR(G14="",H14=""),"",IF(G14="Impresa costruttrice",H14*IFERROR(VLOOKUP(G14,'Parametri'!$A$5:$E$6,2,0),0),0)) | P14: =IF(G14="","",IF(G14="Impresa costruttrice",IFERROR(VLOOKUP(G14,'Parametri'!$A$5:$E$6,3,0),0),0)) | Q14: =IF(G14="","",IF(G14="Impresa costruttrice",IFERROR(VLOOKUP(G14,'Parametri'!$A$5:$E$6,4,0),0),0)) | R14: =IF(G14="","",IF(G14="Impresa costruttrice",IFERROR(VLOOKUP(G14,'Parametri'!$A$5:$E$6,5,0),0),0)) | S14: =IF(T14="","",T14*'Parametri'!$B$12) | U14: =IF(A14="","",SUM(L14:T14)) | W14: =IF(H14="","",H14*'Parametri'!$B$14*(1+'Parametri'!$B$15)) | X14: =IF(A14="","",SUM(V14:W14)) | Y14: =IF(OR(A14="",H14=""),"",U14+X14+MAX(H14-T14,0)) | Z14: =IF(A14="","",IF(AND(F14<>"",OR(G14="Privato",G14="Impresa costruttrice")),"Sì","Verificare"))
J15: =IF(I15="","",I15*(1+'Parametri'!$B$10)*'Parametri'!$B$9) | K15: =IF(G15="","",'Parametri'!$B$11) | L15: =IF(OR(G15="",I15=""),"",IF(G15="Privato",MAX(J15*K15,'Parametri'!$B$13),0)) | M15: =IF(G15="","",IF(G15="Privato",IFERROR(VLOOKUP(G15,'Parametri'!$A$5:$E$6,4,0),0),0)) | N15: =IF(G15="","",IF(G15="Privato",IFERROR(VLOOKUP(G15,'Parametri'!$A$5:$E$6,5,0),0),0)) | O15: =IF(OR(G15="",H15=""),"",IF(G15="Impresa costruttrice",H15*IFERROR(VLOOKUP(G15,'Parametri'!$A$5:$E$6,2,0),0),0)) | P15: =IF(G15="","",IF(G15="Impresa costruttrice",IFERROR(VLOOKUP(G15,'Parametri'!$A$5:$E$6,3,0),0),0)) | Q15: =IF(G15="","",IF(G15="Impresa costruttrice",IFERROR(VLOOKUP(G15,'Parametri'!$A$5:$E$6,4,0),0),0)) | R15: =IF(G15="","",IF(G15="Impresa costruttrice",IFERROR(VLOOKUP(G15,'Parametri'!$A$5:$E$6,5,0),0),0)) | S15: =IF(T15="","",T15*'Parametri'!$B$12) | U15: =IF(A15="","",SUM(L15:T15)) | W15: =IF(H15="","",H15*'Parametri'!$B$14*(1+'Parametri'!$B$15)) | X15: =IF(A15="","",SUM(V15:W15)) | Y15: =IF(OR(A15="",H15=""),"",U15+X15+MAX(H15-T15,0)) | Z15: =IF(A15="","",IF(AND(F15<>"",OR(G15="Privato",G15="Impresa costruttrice")),"Sì","Verificare"))
J16: =IF(I16="","",I16*(1+'Parametri'!$B$10)*'Parametri'!$B$9) | K16: =IF(G16="","",'Parametri'!$B$11) | L16: =IF(OR(G16="",I16=""),"",IF(G16="Privato",MAX(J16*K16,'Parametri'!$B$13),0)) | M16: =IF(G16="","",IF(G16="Privato",IFERROR(VLOOKUP(G16,'Parametri'!$A$5:$E$6,4,0),0),0)) | N16: =IF(G16="","",IF(G16="Privato",IFERROR(VLOOKUP(G16,'Parametri'!$A$5:$E$6,5,0),0),0)) | O16: =IF(OR(G16="",H16=""),"",IF(G16="Impresa costruttrice",H16*IFERROR(VLOOKUP(G16,'Parametri'!$A$5:$E$6,2,0),0),0)) | P16: =IF(G16="","",IF(G16="Impresa costruttrice",IFERROR(VLOOKUP(G16,'Parametri'!$A$5:$E$6,3,0),0),0)) | Q16: =IF(G16="","",IF(G16="Impresa costruttrice",IFERROR(VLOOKUP(G16,'Parametri'!$A$5:$E$6,4,0),0),0)) | R16: =IF(G16="","",IF(G16="Impresa costruttrice",IFERROR(VLOOKUP(G16,'Parametri'!$A$5:$E$6,5,0),0),0)) | S16: =IF(T16="","",T16*'Parametri'!$B$12) | U16: =IF(A16="","",SUM(L16:T16)) | W16: =IF(H16="","",H16*'Parametri'!$B$14*(1+'Parametri'!$B$15)) | X16: =IF(A16="","",SUM(V16:W16)) | Y16: =IF(OR(A16="",H16=""),"",U16+X16+MAX(H16-T16,0)) | Z16: =IF(A16="","",IF(AND(F16<>"",OR(G16="Privato",G16="Impresa costruttrice")),"Sì","Verificare"))
J17: =IF(I17="","",I17*(1+'Parametri'!$B$10)*'Parametri'!$B$9) | K17: =IF(G17="","",'Parametri'!$B$11) | L17: =IF(OR(G17="",I17=""),"",IF(G17="Privato",MAX(J17*K17,'Parametri'!$B$13),0)) | M17: =IF(G17="","",IF(G17="Privato",IFERROR(VLOOKUP(G17,'Parametri'!$A$5:$E$6,4,0),0),0)) | N17: =IF(G17="","",IF(G17="Privato",IFERROR(VLOOKUP(G17,'Parametri'!$A$5:$E$6,5,0),0),0)) | O17: =IF(OR(G17="",H17=""),"",IF(G17="Impresa costruttrice",H17*IFERROR(VLOOKUP(G17,'Parametri'!$A$5:$E$6,2,0),0),0)) | P17: =IF(G17="","",IF(G17="Impresa costruttrice",IFERROR(VLOOKUP(G17,'Parametri'!$A$5:$E$6,3,0),0),0)) | Q17: =IF(G17="","",IF(G17="Impresa costruttrice",IFERROR(VLOOKUP(G17,'Parametri'!$A$5:$E$6,4,0),0),0)) | R17: =IF(G17="","",IF(G17="Impresa costruttrice",IFERROR(VLOOKUP(G17,'Parametri'!$A$5:$E$6,5,0),0),0)) | S17: =IF(T17="","",T17*'Parametri'!$B$12) | U17: =IF(A17="","",SUM(L17:T17)) | W17: =IF(H17="","",H17*'Parametri'!$B$14*(1+'Parametri'!$B$15)) | X17: =IF(A17="","",SUM(V17:W17)) | Y17: =IF(OR(A17="",H17=""),"",U17+X17+MAX(H17-T17,0)) | Z17: =IF(A17="","",IF(AND(F17<>"",OR(G17="Privato",G17="Impresa costruttrice")),"Sì","Verificare"))
J18: =IF(I18="","",I18*(1+'Parametri'!$B$10)*'Parametri'!$B$9) | K18: =IF(G18="","",'Parametri'!$B$11) | L18: =IF(OR(G18="",I18=""),"",IF(G18="Privato",MAX(J18*K18,'Parametri'!$B$13),0)) | M18: =IF(G18="","",IF(G18="Privato",IFERROR(VLOOKUP(G18,'Parametri'!$A$5:$E$6,4,0),0),0)) | N18: =IF(G18="","",IF(G18="Privato",IFERROR(VLOOKUP(G18,'Parametri'!$A$5:$E$6,5,0),0),0)) | O18: =IF(OR(G18="",H18=""),"",IF(G18="Impresa costruttrice",H18*IFERROR(VLOOKUP(G18,'Parametri'!$A$5:$E$6,2,0),0),0)) | P18: =IF(G18="","",IF(G18="Impresa costruttrice",IFERROR(VLOOKUP(G18,'Parametri'!$A$5:$E$6,3,0),0),0)) | Q18: =IF(G18="","",IF(G18="Impresa costruttrice",IFERROR(VLOOKUP(G18,'Parametri'!$A$5:$E$6,4,0),0),0)) | R18: =IF(G18="","",IF(G18="Impresa costruttrice",IFERROR(VLOOKUP(G18,'Parametri'!$A$5:$E$6,5,0),0),0)) | S18: =IF(T18="","",T18*'Parametri'!$B$12) | U18: =IF(A18="","",SUM(L18:T18)) | W18: =IF(H18="","",H18*'Parametri'!$B$14*(1+'Parametri'!$B$15)) | X18: =IF(A18="","",SUM(V18:W18)) | Y18: =IF(OR(A18="",H18=""),"",U18+X18+MAX(H18-T18,0)) | Z18: =IF(A18="","",IF(AND(F18<>"",OR(G18="Privato",G18="Impresa costruttrice")),"Sì","Verificare"))
J19: =IF(I19="","",I19*(1+'Parametri'!$B$10)*'Parametri'!$B$9) | K19: =IF(G19="","",'Parametri'!$B$11) | L19: =IF(OR(G19="",I19=""),"",IF(G19="Privato",MAX(J19*K19,'Parametri'!$B$13),0)) | M19: =IF(G19="","",IF(G19="Privato",IFERROR(VLOOKUP(G19,'Parametri'!$A$5:$E$6,4,0),0),0)) | N19: =IF(G19="","",IF(G19="Privato",IFERROR(VLOOKUP(G19,'Parametri'!$A$5:$E$6,5,0),0),0)) | O19: =IF(OR(G19="",H19=""),"",IF(G19="Impresa costruttrice",H19*IFERROR(VLOOKUP(G19,'Parametri'!$A$5:$E$6,2,0),0),0)) | P19: =IF(G19="","",IF(G19="Impresa costruttrice",IFERROR(VLOOKUP(G19,'Parametri'!$A$5:$E$6,3,0),0),0)) | Q19: =IF(G19="","",IF(G19="Impresa costruttrice",IFERROR(VLOOKUP(G19,'Parametri'!$A$5:$E$6,4,0),0),0)) | R19: =IF(G19="","",IF(G19="Impresa costruttrice",IFERROR(VLOOKUP(G19,'Parametri'!$A$5:$E$6,5,0),0),0)) | S19: =IF(T19="","",T19*'Parametri'!$B$12) | U19: =IF(A19="","",SUM(L19:T19)) | W19: =IF(H19="","",H19*'Parametri'!$B$14*(1+'Parametri'!$B$15)) | X19: =IF(A19="","",SUM(V19:W19)) | Y19: =IF(OR(A19="",H19=""),"",U19+X19+MAX(H19-T19,0)) | Z19: =IF(A19="","",IF(AND(F19<>"",OR(G19="Privato",G19="Impresa costruttrice")),"Sì","Verificare"))
J20: =IF(I20="","",I20*(1+'Parametri'!$B$10)*'Parametri'!$B$9) | K20: =IF(G20="","",'Parametri'!$B$11) | L20: =IF(OR(G20="",I20=""),"",IF(G20="Privato",MAX(J20*K20,'Parametri'!$B$13),0)) | M20: =IF(G20="","",IF(G20="Privato",IFERROR(VLOOKUP(G20,'Parametri'!$A$5:$E$6,4,0),0),0)) | N20: =IF(G20="","",IF(G20="Privato",IFERROR(VLOOKUP(G20,'Parametri'!$A$5:$E$6,5,0),0),0)) | O20: =IF(OR(G20="",H20=""),"",IF(G20="Impresa costruttrice",H20*IFERROR(VLOOKUP(G20,'Parametri'!$A$5:$E$6,2,0),0),0)) | P20: =IF(G20="","",IF(G20="Impresa costruttrice",IFERROR(VLOOKUP(G20,'Parametri'!$A$5:$E$6,3,0),0),0)) | Q20: =IF(G20="","",IF(G20="Impresa costruttrice",IFERROR(VLOOKUP(G20,'Parametri'!$A$5:$E$6,4,0),0),0)) | R20: =IF(G20="","",IF(G20="Impresa costruttrice",IFERROR(VLOOKUP(G20,'Parametri'!$A$5:$E$6,5,0),0),0)) | S20: =IF(T20="","",T20*'Parametri'!$B$12) | U20: =IF(A20="","",SUM(L20:T20)) | W20: =IF(H20="","",H20*'Parametri'!$B$14*(1+'Parametri'!$B$15)) | X20: =IF(A20="","",SUM(V20:W20)) | Y20: =IF(OR(A20="",H20=""),"",U20+X20+MAX(H20-T20,0)) | Z20: =IF(A20="","",IF(AND(F20<>"",OR(G20="Privato",G20="Impresa costruttrice")),"Sì","Verificare"))
J21: =IF(I21="","",I21*(1+'Parametri'!$B$10)*'Parametri'!$B$9) | K21: =IF(G21="","",'Parametri'!$B$11) | L21: =IF(OR(G21="",I21=""),"",IF(G21="Privato",MAX(J21*K21,'Parametri'!$B$13),0)) | M21: =IF(G21="","",IF(G21="Privato",IFERROR(VLOOKUP(G21,'Parametri'!$A$5:$E$6,4,0),0),0)) | N21: =IF(G21="","",IF(G21="Privato",IFERROR(VLOOKUP(G21,'Parametri'!$A$5:$E$6,5,0),0),0)) | O21: =IF(OR(G21="",H21=""),"",IF(G21="Impresa costruttrice",H21*IFERROR(VLOOKUP(G21,'Parametri'!$A$5:$E$6,2,0),0),0)) | P21: =IF(G21="","",IF(G21="Impresa costruttrice",IFERROR(VLOOKUP(G21,'Parametri'!$A$5:$E$6,3,0),0),0)) | Q21: =IF(G21="","",IF(G21="Impresa costruttrice",IFERROR(VLOOKUP(G21,'Parametri'!$A$5:$E$6,4,0),0),0)) | R21: =IF(G21="","",IF(G21="Impresa costruttrice",IFERROR(VLOOKUP(G21,'Parametri'!$A$5:$E$6,5,0),0),0)) | S21: =IF(T21="","",T21*'Parametri'!$B$12) | U21: =IF(A21="","",SUM(L21:T21)) | W21: =IF(H21="","",H21*'Parametri'!$B$14*(1+'Parametri'!$B$15)) | X21: =IF(A21="","",SUM(V21:W21)) | Y21: =IF(OR(A21="",H21=""),"",U21+X21+MAX(H21-T21,0)) | Z21: =IF(A21="","",IF(AND(F21<>"",OR(G21="Privato",G21="Impresa costruttrice")),"Sì","Verificare"))
J22: =IF(I22="","",I22*(1+'Parametri'!$B$10)*'Parametri'!$B$9) | K22: =IF(G22="","",'Parametri'!$B$11) | L22: =IF(OR(G22="",I22=""),"",IF(G22="Privato",MAX(J22*K22,'Parametri'!$B$13),0)) | M22: =IF(G22="","",IF(G22="Privato",IFERROR(VLOOKUP(G22,'Parametri'!$A$5:$E$6,4,0),0),0)) | N22: =IF(G22="","",IF(G22="Privato",IFERROR(VLOOKUP(G22,'Parametri'!$A$5:$E$6,5,0),0),0)) | O22: =IF(OR(G22="",H22=""),"",IF(G22="Impresa costruttrice",H22*IFERROR(VLOOKUP(G22,'Parametri'!$A$5:$E$6,2,0),0),0)) | P22: =IF(G22="","",IF(G22="Impresa costruttrice",IFERROR(VLOOKUP(G22,'Parametri'!$A$5:$E$6,3,0),0),0)) | Q22: =IF(G22="","",IF(G22="Impresa costruttrice",IFERROR(VLOOKUP(G22,'Parametri'!$A$5:$E$6,4,0),0),0)) | R22: =IF(G22="","",IF(G22="Impresa costruttrice",IFERROR(VLOOKUP(G22,'Parametri'!$A$5:$E$6,5,0),0),0)) | S22: =IF(T22="","",T22*'Parametri'!$B$12) | U22: =IF(A22="","",SUM(L22:T22)) | W22: =IF(H22="","",H22*'Parametri'!$B$14*(1+'Parametri'!$B$15)) | X22: =IF(A22="","",SUM(V22:W22)) | Y22: =IF(OR(A22="",H22=""),"",U22+X22+MAX(H22-T22,0)) | Z22: =IF(A22="","",IF(AND(F22<>"",OR(G22="Privato",G22="Impresa costruttrice")),"Sì","Verificare"))
J23: =IF(I23="","",I23*(1+'Parametri'!$B$10)*'Parametri'!$B$9) | K23: =IF(G23="","",'Parametri'!$B$11) | L23: =IF(OR(G23="",I23=""),"",IF(G23="Privato",MAX(J23*K23,'Parametri'!$B$13),0)) | M23: =IF(G23="","",IF(G23="Privato",IFERROR(VLOOKUP(G23,'Parametri'!$A$5:$E$6,4,0),0),0)) | N23: =IF(G23="","",IF(G23="Privato",IFERROR(VLOOKUP(G23,'Parametri'!$A$5:$E$6,5,0),0),0)) | O23: =IF(OR(G23="",H23=""),"",IF(G23="Impresa costruttrice",H23*IFERROR(VLOOKUP(G23,'Parametri'!$A$5:$E$6,2,0),0),0)) | P23: =IF(G23="","",IF(G23="Impresa costruttrice",IFERROR(VLOOKUP(G23,'Parametri'!$A$5:$E$6,3,0),0),0)) | Q23: =IF(G23="","",IF(G23="Impresa costruttrice",IFERROR(VLOOKUP(G23,'Parametri'!$A$5:$E$6,4,0),0),0)) | R23: =IF(G23="","",IF(G23="Impresa costruttrice",IFERROR(VLOOKUP(G23,'Parametri'!$A$5:$E$6,5,0),0),0)) | S23: =IF(T23="","",T23*'Parametri'!$B$12) | U23: =IF(A23="","",SUM(L23:T23)) | W23: =IF(H23="","",H23*'Parametri'!$B$14*(1+'Parametri'!$B$15)) | X23: =IF(A23="","",SUM(V23:W23)) | Y23: =IF(OR(A23="",H23=""),"",U23+X23+MAX(H23-T23,0)) | Z23: =IF(A23="","",IF(AND(F23<>"",OR(G23="Privato",G23="Impresa costruttrice")),"Sì","Verificare"))
J24: =IF(I24="","",I24*(1+'Parametri'!$B$10)*'Parametri'!$B$9) | K24: =IF(G24="","",'Parametri'!$B$11) | L24: =IF(OR(G24="",I24=""),"",IF(G24="Privato",MAX(J24*K24,'Parametri'!$B$13),0)) | M24: =IF(G24="","",IF(G24="Privato",IFERROR(VLOOKUP(G24,'Parametri'!$A$5:$E$6,4,0),0),0)) | N24: =IF(G24="","",IF(G24="Privato",IFERROR(VLOOKUP(G24,'Parametri'!$A$5:$E$6,5,0),0),0)) | O24: =IF(OR(G24="",H24=""),"",IF(G24="Impresa costruttrice",H24*IFERROR(VLOOKUP(G24,'Parametri'!$A$5:$E$6,2,0),0),0)) | P24: =IF(G24="","",IF(G24="Impresa costruttrice",IFERROR(VLOOKUP(G24,'Parametri'!$A$5:$E$6,3,0),0),0)) | Q24: =IF(G24="","",IF(G24="Impresa costruttrice",IFERROR(VLOOKUP(G24,'Parametri'!$A$5:$E$6,4,0),0),0)) | R24: =IF(G24="","",IF(G24="Impresa costruttrice",IFERROR(VLOOKUP(G24,'Parametri'!$A$5:$E$6,5,0),0),0)) | S24: =IF(T24="","",T24*'Parametri'!$B$12) | U24: =IF(A24="","",SUM(L24:T24)) | W24: =IF(H24="","",H24*'Parametri'!$B$14*(1+'Parametri'!$B$15)) | X24: =IF(A24="","",SUM(V24:W24)) | Y24: =IF(OR(A24="",H24=""),"",U24+X24+MAX(H24-T24,0)) | Z24: =IF(A24="","",IF(AND(F24<>"",OR(G24="Privato",G24="Impresa costruttrice")),"Sì","Verificare"))
... J103: =IF(I103="","",I103*(1+'Parametri'!$B$10)*'Parametri'!$B$9) | K103: =IF(G103="","",'Parametri'!$B$11) | L103: =IF(OR(G103="",I103=""),"",IF(G103="Privato",MAX(J103*K103,'Parametri'!$B$13),0)) | M103: =IF(G103="","",IF(G103="Privato",IFERROR(VLOOKUP(G103,'Parametri'!$A$5:$E$6,4,0),0),0)) | N103: =IF(G103="","",IF(G103="Privato",IFERROR(VLOOKUP(G103,'Parametri'!$A$5:$E$6,5,0),0),0)) | O103: =IF(OR(G103="",H103=""),"",IF(G103="Impresa costruttrice",H103*IFERROR(VLOOKUP(G103,'Parametri'!$A$5:$E$6,2,0),0),0)) | P103: =IF(G103="","",IF(G103="Impresa costruttrice",IFERROR(VLOOKUP(G103,'Parametri'!$A$5:$E$6,3,0),0),0)) | Q103: =IF(G103="","",IF(G103="Impresa costruttrice",IFERROR(VLOOKUP(G103,'Parametri'!$A$5:$E$6,4,0),0),0)) | R103: =IF(G103="","",IF(G103="Impresa costruttrice",IFERROR(VLOOKUP(G103,'Parametri'!$A$5:$E$6,5,0),0),0)) | S103: =IF(T103="","",T103*'Parametri'!$B$12) | U103: =IF(A103="","",SUM(L103:T103)) | W103: =IF(H103="","",H103*'Parametri'!$B$14*(1+'Parametri'!$B$15)) | X103: =IF(A103="","",SUM(V103:W103)) | Y103: =IF(OR(A103="",H103=""),"",U103+X103+MAX(H103-T103,0)) | Z103: =IF(A103="","",IF(AND(F103<>"",OR(G103="Privato",G103="Impresa costruttrice")),"Sì","Verificare"))

Sheet Riepilogo
A1: Riepilogo imposte acquisto prima casa
A2: Dashboard basata sulle pratiche compilate nel foglio Calcolo Acquisti.
A4: Indicatore | B4: Valore | D4: Stima mutuo | E4: Valore
A5: Numero totale pratiche (verifica Sì) | B5: =COUNTIF('Calcolo Acquisti'!$Z$4:$Z$103,"Sì") | D5: Importo finanziato | E5: 220000
A6: Prezzo medio degli immobili | B6: =IFERROR(AVERAGE('Calcolo Acquisti'!$H$4:$H$103),0) | D6: TAN annuo | E6: 0.031
A7: Imposte totali | B7: =SUM('Calcolo Acquisti'!$U$4:$U$103) | D7: Durata in anni | E7: 25
A8: Esborso medio complessivo | B8: =IFERROR(AVERAGE('Calcolo Acquisti'!$Y$4:$Y$103),0) | D8: Rata mensile stimata | E8: =IF(OR(E5="",E6="",E7=""),"",IFERROR(PMT(E6/12,E7*12,-E5),0))
A9: Totale IVA versata | B9: =SUM('Calcolo Acquisti'!$O$4:$O$103)
A10: Totale imposta di registro | B10: =SUM('Calcolo Acquisti'!$L$4:$L$103,'Calcolo Acquisti'!$P$4:$P$103)
A11: Incidenza media imposte sul prezzo | B11: =IFERROR(B7/B6,0) | D11: Componente imposte | E11: Importo
A12: Acquisti da privato | B12: =COUNTIF('Calcolo Acquisti'!$G$4:$G$103,"Privato") | D12: Imposta di registro | E12: =SUM('Calcolo Acquisti'!$L$4:$L$103,'Calcolo Acquisti'!$P$4:$P$103)
A13: Acquisti da impresa | B13: =COUNTIF('Calcolo Acquisti'!$G$4:$G$103,"Impresa costruttrice") | D13: IVA prima casa | E13: =SUM('Calcolo Acquisti'!$O$4:$O$103)
D14: Imposta ipotecaria | E14: =SUM('Calcolo Acquisti'!$M$4:$M$103,'Calcolo Acquisti'!$Q$4:$Q$103)
D15: Imposta catastale | E15: =SUM('Calcolo Acquisti'!$N$4:$N$103,'Calcolo Acquisti'!$R$4:$R$103)
D16: Imposta sostitutiva mutuo | E16: =SUM('Calcolo Acquisti'!$S$4:$S$103)

Sheet Parametri
A1: Parametri modificabili per il calcolo
A2: Le celle gialle sono modificabili e incidono sui calcoli del foglio principale.
A4: Tipologia | B4: Aliquota IVA | C4: Registro fissa | D4: Ipotecaria fissa | E4: Catastale fissa
A5: Privato | B5: 0 | C5: 0 | D5: 50 | E5: 50
A6: Impresa costruttrice | B6: 0.04 | C6: 200 | D6: 200 | E6: 200
A8: Parametro | B8: Valore
A9: Moltiplicatore rendita prima casa | B9: 110
A10: Rivalutazione rendita catastale | B10: 0.05
A11: Imposta registro prima casa | B11: 0.02
A12: Imposta sostitutiva mutuo prima casa | B12: 0.0025
A13: Imposta registro minima | B13: 1000
A14: Provvigione agenzia standard | B14: 0.03
A15: Aliquota IVA provvigione | B15: 0.22
A18: Avvertenza | B18: Il calcolo è indicativo e deve essere verificato con notaio, Agenzia delle Entrate e documentazione catastale aggiornata.
